BEGIN:VCALENDAR
VERSION:2.0
PRODID:-//ChamberMaster//Event Calendar 2.0//EN
METHOD:PUBLISH
X-PUBLISHED-TTL:P3D
REFRESH-INTERVAL:P3D
CALSCALE:GREGORIAN
BEGIN:VEVENT
DTSTART:20170819T160000Z
DTEND:20170819T180000Z
X-MICROSOFT-CDO-ALLDAYEVENT:FALSE
SUMMARY:Jam Hops All Boys Nerf Warz and Open Gym
DESCRIPTION:Bring your boys to play Nerf games\, have pizza and open gym time!\n\n\n	Ages 5 and older\n	Pizza included
X-ALT-DESC;FMTTYPE=text/html:<p><span style="font-size:16px">Bring your boys to play Nerf games\, have pizza and open gym time!</span></p>\n\n<ul>\n	<li>Ages 5 and older</li>\n	<li>Pizza included</li>\n</ul>\n
LOCATION:14216 Lincoln St. NE\, Ham Lake
UID:e.380.176469
SEQUENCE:3
DTSTAMP:20260421T121353Z
URL:http://members.metronorthchamber.org/events/details/jam-hops-all-boys-nerf-warz-and-open-gym-176469
END:VEVENT

END:VCALENDAR
