BEGIN:VCALENDAR
VERSION:2.0
PRODID:-//ChamberMaster//Event Calendar 2.0//EN
METHOD:PUBLISH
X-PUBLISHED-TTL:P3D
REFRESH-INTERVAL:P3D
CALSCALE:GREGORIAN
BEGIN:VEVENT
DTSTART:20170603T201500Z
DTEND:20170603T220000Z
X-MICROSOFT-CDO-ALLDAYEVENT:FALSE
SUMMARY:Jam Hops All Boys Gymnastics Camp
DESCRIPTION:Bring your boys to our all boys gymnastics camp!
X-ALT-DESC;FMTTYPE=text/html:Bring your boys to our all boys gymnastics camp!
LOCATION:14216 Lincoln St. NE Ham Lake
UID:e.380.175066
SEQUENCE:3
DTSTAMP:20260421T135237Z
URL:http://members.metronorthchamber.org/events/details/jam-hops-all-boys-gymnastics-camp-175066
END:VEVENT

END:VCALENDAR
