BEGIN:VCALENDAR
VERSION:2.0
PRODID:-//ChamberMaster//Event Calendar 2.0//EN
METHOD:PUBLISH
X-PUBLISHED-TTL:P3D
REFRESH-INTERVAL:P3D
CALSCALE:GREGORIAN
BEGIN:VEVENT
DTSTART:20180512T210000Z
DTEND:20180513T000000Z
X-MICROSOFT-CDO-ALLDAYEVENT:FALSE
SUMMARY:Jam Hops All Boys Flippin' Skill Clinic
DESCRIPTION:Come and flip out at our ALL BOYS Flippin' Skill Clinic. This clinic will focus on teaching boys basic moves on all 6 men's gymnastics events. We will also eat pizza and have some open gym time. Ages 5 and up.
X-ALT-DESC;FMTTYPE=text/html:<span style="color:rgb(102\, 102\, 102)\; font-family:lato\,sans-serif\; font-size:16px">Come and flip out at our ALL BOYS Flippin&#39\; Skill Clinic. This clinic will focus on teaching boys basic moves on all 6 men&#39\;s gymnastics events. We will also eat pizza and have some open gym time. Ages 5 and up.</span>
LOCATION:1460 133rd LN NE\, Ham Lake\, MN 55304
UID:e.380.184807
SEQUENCE:3
DTSTAMP:20260420T230312Z
URL:http://members.metronorthchamber.org/events/details/jam-hops-all-boys-flippin-skill-clinic-184807
END:VEVENT

END:VCALENDAR
