BEGIN:VCALENDAR
VERSION:2.0
PRODID:-//ChamberMaster//Event Calendar 2.0//EN
METHOD:PUBLISH
X-PUBLISHED-TTL:P3D
REFRESH-INTERVAL:P3D
CALSCALE:GREGORIAN
BEGIN:VEVENT
DTSTART:20170422T223000Z
DTEND:20170423T000000Z
X-MICROSOFT-CDO-ALLDAYEVENT:FALSE
SUMMARY:Jam Hops Aerial Skill Clinic
DESCRIPTION:Come learn the skills for an aerial cartwheel!
X-ALT-DESC;FMTTYPE=text/html:Come learn the skills for an aerial cartwheel!
LOCATION:14216 Lincoln St. NE\, Ham Lake
UID:e.380.171779
SEQUENCE:3
DTSTAMP:20260421T170543Z
URL:http://members.metronorthchamber.org/events/details/jam-hops-aerial-skill-clinic-04-22-2017-171779
END:VEVENT

END:VCALENDAR
