BEGIN:VCALENDAR
VERSION:2.0
PRODID:-//ChamberMaster//Event Calendar 2.0//EN
METHOD:PUBLISH
X-PUBLISHED-TTL:P3D
REFRESH-INTERVAL:P3D
CALSCALE:GREGORIAN
BEGIN:VEVENT
DTSTART:20180324T223000Z
DTEND:20180325T000000Z
X-MICROSOFT-CDO-ALLDAYEVENT:FALSE
SUMMARY:Jam Hops Aerial Skill Clinic
DESCRIPTION:Come learn the steps to doing an aerial cartwheel!
X-ALT-DESC;FMTTYPE=text/html:<p>Come learn the steps to doing an aerial cartwheel!</p>\n
LOCATION:1460 133rd LN NE\, Ham Lake\, MN 55304
UID:e.380.179618
SEQUENCE:3
DTSTAMP:20260421T003253Z
URL:http://members.metronorthchamber.org/events/details/jam-hops-aerial-skill-clinic-03-24-2018-179618
END:VEVENT

END:VCALENDAR
