BEGIN:VCALENDAR
VERSION:2.0
PRODID:-//ChamberMaster//Event Calendar 2.0//EN
METHOD:PUBLISH
X-PUBLISHED-TTL:P3D
REFRESH-INTERVAL:P3D
CALSCALE:GREGORIAN
BEGIN:VEVENT
DTSTART:20160227T233000Z
DTEND:20160228T010000Z
X-MICROSOFT-CDO-ALLDAYEVENT:FALSE
SUMMARY:Jam Hops Aerial Clinic
DESCRIPTION:Come learn the steps to doing an aerial cartwheel!
X-ALT-DESC;FMTTYPE=text/html:Come learn the steps to doing an aerial cartwheel!
LOCATION:14216 Lincoln St. NE\, Ham Lake
UID:e.380.163091
SEQUENCE:3
DTSTAMP:20260422T192105Z
URL:http://members.metronorthchamber.org/events/details/jam-hops-aerial-clinic-02-27-2016-163091
END:VEVENT

END:VCALENDAR
