BEGIN:VCALENDAR
VERSION:2.0
PRODID:-//ChamberMaster//Event Calendar 2.0//EN
METHOD:PUBLISH
X-PUBLISHED-TTL:P3D
REFRESH-INTERVAL:P3D
CALSCALE:GREGORIAN
BEGIN:VEVENT
DTSTART;VALUE=DATE:20150417
DTEND;VALUE=DATE:20150418
TRANSP:TRANSPARENT
X-MICROSOFT-CDO-ALLDAYEVENT:TRUE
SUMMARY:JA-in-a-Day at Lincoln Elementary in Anoka
DESCRIPTION:Volunteer from 9am-1pm at Lincoln Elementary in Anoka on Friday April 17th in a Kindergarten - 5th grade classroom. Nineteen total classes will be participating in this fun whole school JA event on 4/17 supported by 40 volunteers. Every class at Lincoln will have a team of JA volunteers who will be facilitating 5 grade specific JA lessons to thier class during the 4 hour JA in a Day visit. JA lessons use hands-on activities to help students better understand what it means to be a responsible citizen\, consumer and worker. The volunteers share thier personal stories and bring the JA lessons to life\, teaching students about entrepreneurship\, how to manage money\, and providing them with the skills needed to succeed in school and beyond. \n\n\n\nNo experince is needed. JA provides all the materails\, training and support. Watch a video of a volunteer in a 1st grade classroom on this link  See a synopsis of each of the 5 lessons in the 3rd grade (JA Our City) program and the kit of JA materials that is provided to volunteers via this link.  Tell us what grade you want to work with Kindergarten - 5th grade.\n\nHelp inspire youth to be all that they can be!
X-ALT-DESC;FMTTYPE=text/html:<span style="font-family: arial\,sans-serif\;"><span style="font-size: 10pt\;">Volunteer from <strong>9am-1pm</strong> at<strong> Lincoln Elementary</strong>&nbsp\;in Anoka on <strong>Friday April 17th </strong>in a Kindergarten - 5th grade classroom. Nineteen total classes will be participating in this fun whole school JA event on 4/17 supported by 40 volunteers. Every class at Lincoln will have a team of JA volunteers who will be facilitating&nbsp\;5 grade specific&nbsp\;</span></span><span style="font-family: arial\,sans-serif\;"><span style="font-size: 10pt\;">JA lessons to thier class during the 4 hour&nbsp\;</span></span><span style="font-family: arial\,sans-serif\; font-size: 13.33px\;">JA in a Day</span><span style="font-family: arial\,sans-serif\;"><span style="font-size: 10pt\;">&nbsp\;visit. </span></span><span style="font-family: arial\,sans-serif\; font-size: 13.33px\;">JA lessons use hands-on activities to help students better understand what it means to be a&nbsp\;responsible citizen\, consumer and worker</span><span style="font-family: arial\,sans-serif\; font-size: 13.33px\;">. The v</span><span style="font-family: arial\,sans-serif\;"><span style="font-size: 10pt\;">olunteers share thier personal stories and bring the JA lessons to life\, teaching students about&nbsp\;entrepreneurship\, how to manage money\, and providing them with the skills needed to succeed in school and beyond.&nbsp\;<br />\n<br />\nNo experince is needed. JA provides all the materails\, training and support.&nbsp\;Watch a video of a volunteer in a 1<sup>st</sup> grade classroom on this <a href="http://jaum.org/about-us/">link</a>&nbsp\; See a synopsis of each of the 5 lessons in the 3<sup>rd</sup> grade (JA Our City)&nbsp\;program and the kit of JA materials that is provided to volunteers via this <a href="http://www.jaum.org/programs/classroom-programs/elementary-school-programs/our-city/">link</a>. </span></span>&nbsp\;Tell us what grade you want to work with Kindergarten - 5th grade.<br />\n<font face="arial\, sans-serif"><span style="line-height: 21.33px\; font-size: 13.33px\;">Help inspire youth to be all that they can be! &nbsp\;</span></font><br />\n&nbsp\;
LOCATION:Lincoln Elementary\; 540 South St\, Anoka\, MN 55303
UID:e.380.156911
SEQUENCE:3
DTSTAMP:20260423T095442Z
URL:http://members.metronorthchamber.org/events/details/ja-in-a-day-at-lincoln-elementary-in-anoka-04-17-2015-156911
END:VEVENT

END:VCALENDAR
