BEGIN:VCALENDAR
VERSION:2.0
PRODID:-//ChamberMaster//Event Calendar 2.0//EN
METHOD:PUBLISH
X-PUBLISHED-TTL:P3D
REFRESH-INTERVAL:P3D
CALSCALE:GREGORIAN
BEGIN:VEVENT
DTSTART:20170601T140000Z
DTEND:20170601T180000Z
X-MICROSOFT-CDO-ALLDAYEVENT:FALSE
SUMMARY:JA in a Day
DESCRIPTION:In just one\, half day visit you can inspire and prepare students for success. As a volunteer\, you will deliver five\, 30-40 minute lessons back-to-back to one classroom.
X-ALT-DESC;FMTTYPE=text/html:In just one\, half day visit you can inspire and prepare students for success. As a volunteer\, you will deliver five\, 30-40 minute lessons back-to-back to one classroom.
LOCATION:Rum River Elementary Andover
UID:e.380.174998
SEQUENCE:3
DTSTAMP:20260421T134945Z
URL:http://members.metronorthchamber.org/events/details/ja-in-a-day-174998
END:VEVENT

END:VCALENDAR
