BEGIN:VCALENDAR
VERSION:2.0
PRODID:-//ChamberMaster//Event Calendar 2.0//EN
METHOD:PUBLISH
X-PUBLISHED-TTL:P3D
REFRESH-INTERVAL:P3D
CALSCALE:GREGORIAN
BEGIN:VEVENT
DTSTART:20160601T143000Z
DTEND:20160601T183000Z
X-MICROSOFT-CDO-ALLDAYEVENT:FALSE
SUMMARY:JA in a Day
DESCRIPTION:JA-in-a-Day on June 1st\, 2016 at Rum River Elementary School\n\n\n	What: Volunteers integrate stories about their personal and professional path as they facilitate JA lessons to inspire students to dream big and provide them information about the skills needed to succeed in school and beyond. The JA lessons use fun\, hands-on activities to help students better understand entrepreneurship\, how to manage money and what it means to be a responsible citizen\, consumer and worker. JA Volunteers work with a classroom of students in local K-12 schools.\n	\n\n	How: JA Volunteers teach the JA lessons\n	\n		JA in a Day   Facilitate five 30 to 45 minute JA lessons back-to-back during one 4 hour classroom visit \n		\n			Two volunteers are in each classroom and the teacher remains in the classroom the whole time to assist in anyway needed \n			Volunteers select the grade level they want to work with   Kindergarten\, 1st\, 2nd\, 4th and 5th grade.\n			\n				A two sentence synopsis of each of the five JA lessons in each grade specific JA program can easily be provided. \n			\n			\n			Check out video of a local volunteer in an elementary classroom on this link.
X-ALT-DESC;FMTTYPE=text/html:<span style="font-family:arial\,sans-serif\;"><span style="font-size:10.0pt\;"><strong>JA-in-a-Day on June 1<sup>st</sup>\, 2016 at Rum River Elementary School</strong></span></span>\n\n<ul>\n	<li><strong><span style="font-family:arial\,sans-serif\;"><span style="font-size:10.0pt\;">What:</span></span></strong><span style="font-family:arial\,sans-serif\;"><span style="font-size:10.0pt\;"> Volunteers integrate stories about their personal and professional path as they facilitate JA lessons to inspire <span style="background:white\;">students</span> to dream big and <span style="background:white\;">provide them information about the skills needed to succeed in school and beyond. The JA lessons use fun\, hands-on activities to help students better understand entrepreneurship\, how to manage money and what it means to be a&nbsp\;responsible citizen\, consumer and worker</span>. JA <span style="background:white\;">Volunteers work with a classroom of students in local&nbsp\;K-12 schools.</span></span></span></li>\n	<br />\n	<li><span style="font-family:arial\,sans-serif\;"><span style="font-size:10.0pt\;"><span style="background:white\;"><strong style="font-size: 10pt\; font-family: arial\, sans-serif\; line-height: 1.6\;"><span style="font-size:10.0pt\;">How:</span></strong><span style="font-size: 10pt\; font-family: arial\, sans-serif\; line-height: 1.6\;"><span style="font-size:10.0pt\;"> JA Volunteers teach the JA lessons</span></span></span></span></span>\n	<ul>\n		<li><span style="font-family:arial\,sans-serif\;"><span style="font-size:10.0pt\;">JA in a Day &ndash\;&nbsp\;Facilitate five&nbsp\;30 to 45 minute JA lessons back-to-back during&nbsp\;one 4 hour classroom visit </span></span>\n		<ul style="list-style-type:circle\;">\n			<li><span style="font-family:arial\,sans-serif\;"><span style="font-size:10.0pt\;">Two volunteers are in each classroom and&nbsp\;the teacher remains in the classroom the whole time to assist in anyway needed </span></span></li>\n			<li><span style="font-family:arial\,sans-serif\;"><span style="font-size:10.0pt\;">Volunteers select the grade level they want to work with &ndash\; Kindergarten\, 1st\, 2nd\, 4th and 5th&nbsp\;</span><span style="font-size: 10pt\;">grade.</span></span>\n			<ul>\n				<li><span style="font-family:arial\,sans-serif\;"><span style="font-size:10.0pt\;">A two sentence synopsis of each of the five&nbsp\;JA lessons in each grade specific JA program can easily be provided. </span></span></li>\n			</ul>\n			</li>\n			<li><span style="font-family:arial\,sans-serif\;"><span style="font-size:10.0pt\;">Check out video of a local volunteer in an elementary classroom on this <a href="http://jaum.org/about-us/">link</a><a href="https://www.jaum.org/about-us/">.&nbsp\;</a></span></span></li>\n		</ul>\n		</li>\n	</ul>\n	</li>\n</ul>\n
LOCATION:Rum River Elementary 16950 Verdin Street NW Andover 55304
UID:e.380.168060
SEQUENCE:3
DTSTAMP:20260422T114500Z
URL:http://members.metronorthchamber.org/events/details/ja-in-a-day-06-01-2016-168060
END:VEVENT

END:VCALENDAR
