BEGIN:VCALENDAR
VERSION:2.0
PRODID:-//ChamberMaster//Event Calendar 2.0//EN
METHOD:PUBLISH
X-PUBLISHED-TTL:P3D
REFRESH-INTERVAL:P3D
CALSCALE:GREGORIAN
BEGIN:VEVENT
DTSTART:20170524T000000Z
DTEND:20170524T020000Z
X-MICROSOFT-CDO-ALLDAYEVENT:FALSE
SUMMARY:It Was All A Dram
DESCRIPTION:It Was All A Dram is a Scotch event featuring several scotches from Gordon & MacPhail and Benromach. Hosted by Jeff Peterson\, brand ambassador\, and importer for Gordon & MacPhail.\n\nWe will be featuring a cocktail that includes Benromach Peat Smoke and Tattersall Sour Cherry Liqueur as well as Benromach Imperial\, Gordon & MacPhail Caol Ila Sassacaia\, Speymalt Macallan 2007 9 yr\, Mortlach 25\, and Cask Strength Ledaig 2000 which is only available at Top Ten Liquors.\n\nCall (763) 754-3231 or stop in to reserve your spot! $10 to reserve your spot\, you will receive a voucher good towards any of the featured products.\n\n*All cancelations must be made 24 hrs in advance for refund.*\n\n**Rewards members gain free access\, but must still reserve their spot.
X-ALT-DESC;FMTTYPE=text/html:<p>It Was All A Dram is a Scotch event featuring several scotches from&nbsp\;<a href="http://www.gordonandmacphail.com/" style="box-sizing: border-box\; margin: 0px\; padding: 0px\; border: 0px\; outline: 0px\; background: transparent\; vertical-align: baseline\; color: rgb(102\, 141\, 165)\; text-decoration-line: none\;" target="_blank">Gordon &amp\; MacPhail</a>&nbsp\;and&nbsp\;<a href="http://www.benromach.com/" style="box-sizing: border-box\; margin: 0px\; padding: 0px\; border: 0px\; outline: 0px\; background: transparent\; vertical-align: baseline\; color: rgb(102\, 141\, 165)\; text-decoration-line: none\;" target="_blank">Benromach</a>. Hosted by Jeff Peterson\, brand ambassador\, and importer for Gordon &amp\; MacPhail.</p>\n\n<p>We will be featuring a cocktail that includes Benromach Peat Smoke and Tattersall Sour Cherry Liqueur as well as Benromach Imperial\, Gordon &amp\; MacPhail&nbsp\;Caol Ila Sassacaia\, Speymalt Macallan 2007 9 yr\, Mortlach 25\, and Cask Strength Ledaig 2000 which is only available at Top Ten Liquors.</p>\n\n<p>Call (763) 754-3231 or stop in to reserve your spot! $10 to reserve your spot\, you will receive a voucher good towards any of the featured products.</p>\n\n<p>*All cancelations must be made 24 hrs in advance for refund.*</p>\n\n<p>**Rewards members gain free access\, but must still reserve their spot.</p>\n
LOCATION:Top Ten Liquor 12513 Central Ave NE Blaine\, MN 55434
UID:e.380.175017
SEQUENCE:3
DTSTAMP:20260421T152447Z
URL:http://members.metronorthchamber.org/events/details/it-was-all-a-dram-175017
END:VEVENT

END:VCALENDAR
