BEGIN:VCALENDAR
VERSION:2.0
PRODID:-//ChamberMaster//Event Calendar 2.0//EN
METHOD:PUBLISH
X-PUBLISHED-TTL:P3D
REFRESH-INTERVAL:P3D
CALSCALE:GREGORIAN
BEGIN:VEVENT
DTSTART:20130917T180000Z
DTEND:20130918T010000Z
X-MICROSOFT-CDO-ALLDAYEVENT:FALSE
SUMMARY:"it's fore the kids" Andover YMCA Charity Golf Tournament
DESCRIPTION:Andover YMCA Golf Tournament\n\n	\n\n	Majestic Oaks Golf Club - September 17\, 2013\n\n	\n\n	Proceeds Benefit the Annual Y Partners Campaign\n\n	 \n\n	Every day we work side-by-side with our neighbors to make sure that everyone\, regardless of age\, income or background\, has the opportunity to learn\, grow and thrive at the Y. Each year the Andover Y raises funds through our annual Y Partners Campaign. The money raised stays right here in the communities we serve and provides scholarships so that no one is turned away from membership\, swimming lessons\, camps or programs due to financial need.\n\n	\n\n	 \n\n	$300 per foursome or $85 per golfer until August 16th\n\n	$360 per foursome or $95 per golfer after August 16th\n\n	Includes 18 hole green fees\, golf cart\, use of driving range\, and dinner\n\n	$20 dinner only\n\n	\n\n	 \n\n	Event Schedule\n\n	Registration opens 11:30 AM\n\n	Practice greens and driving range 11:30 - 1:00 PM\n\n	Lunch will be available for purchase\n\n	Shotgun Start 1:00 PM\n\n	Cocktail Reception 5:30 PM - 6:30 PM\n\n	Dinner/Awards 6:30 PM - 8:00 PM\n\n	Silent Auction closes 7:00 PM
X-ALT-DESC;FMTTYPE=text/html:<p align="left">\n	<span style="font-size:20px\;"><span style="font-family: arial\;"><big><b><font color="#8000ff"><font color="#8000ff"><font color="#8000ff">Andover YMCA Golf Tournament</font></font></font></b></big></span></span><br />\n	<br />\n	<font size="4"><font size="4"><span style="font-size:16px\;"><strong><span style="font-family: arial\;">Majestic Oaks Golf Clu</span></strong></span></font></font><span style="font-size:16px\;"><strong><span style="font-family: arial\;">b - September 17\, 2013<br />\n	<br />\n	Proceeds Benefit the Annual Y Partners Campaign</span></strong></span><br />\n	&nbsp\;</p>\n<p align="left">\n	<span style="font-size:12px\;"><span style="font-family: arial\;">Every day we work side-by-side with our neighbors to make sure that everyone\, regardless of age\, income or background\, has the opportunity to learn\, grow and thrive</span></span><span style="font-size:12px\;"><span style="font-family: arial\;"> at the Y. Each year the Andover Y raises funds through our annual Y Partners Campaign.</span></span><span style="font-size:12px\;"><span style="font-family: arial\;"> The money raised stays right here in the communities we serve and provides scholarships</span></span><span style="font-size:12px\;"><span style="font-family: arial\;"> so that no one is turned away from membership\, swimming lessons\, camps or programs</span></span><span style="font-size:12px\;"><span style="font-family: arial\;"> due to financial need.</span></span><br />\n	<br />\n	&nbsp\;</p>\n<p align="left">\n	<span style="font-size:12px\;"><span style="font-family: arial\;"><b><font color="#8000ff"><font color="#8000ff"><font color="#8000ff">$300 per foursome </font></font></font></b><font color="#000000">or $85 per golfer</font> until August 16th</span></span></p>\n<p align="left">\n	<span style="font-size:12px\;"><span style="font-family: arial\;"><b><font color="#8000ff"><font color="#8000ff"><font color="#8000ff">$360 per foursome </font></font></font></b><font color="#000000">or $95 per golfer</font> after August 16th</span></span></p>\n<p align="left">\n	<span style="font-size:12px\;"><span style="font-family: arial\;">Includes 18 hole green fees\, golf cart\, use of</span></span><span style="font-size:12px\;"><span style="font-family: arial\;"> driving range\, and dinner</span></span></p>\n<p align="left">\n	<span style="font-size:12px\;"><span style="font-family: arial\;"><b><font color="#8000ff"><font color="#8000ff"><font color="#8000ff">$20 dinner only</font></font></font></b></span></span><br />\n	<br />\n	&nbsp\;</p>\n<p align="left">\n	<span style="font-size:14px\;"><strong><span style="font-family: arial\;"><font color="#8000ff"><font color="#8000ff"><font color="#8000ff">Event Schedule</font></font></font></span></strong></span></p>\n<p align="left">\n	<span style="font-size:12px\;"><span style="font-family: arial\;">Registration opens <strong>11:30 AM</strong></span></span></p>\n<p align="left">\n	<span style="font-size:12px\;"><span style="font-family: arial\;">Practice greens and driving range <strong>11:30 - 1:00 PM</strong></span></span></p>\n<p align="left">\n	<span style="font-size:12px\;"><span style="font-family: arial\;">Lunch will be available for purchase</span></span></p>\n<p align="left">\n	<span style="font-size:12px\;"><span style="font-family: arial\;">Shotgun Start <strong>1:00 PM</strong></span></span></p>\n<p align="left">\n	<span style="font-size:12px\;"><span style="font-family: arial\;">Cocktail Reception <strong>5:30 PM - 6:30 PM</strong></span></span></p>\n<p align="left">\n	<span style="font-size:12px\;"><span style="font-family: arial\;">Dinner/Awards <strong>6:30 PM - 8:00 PM</strong></span></span></p>\n<p>\n	<span style="font-size:12px\;"><span style="font-family: arial\;">Silent Auction closes <strong>7:00 PM</strong></span></span></p>\n
LOCATION:Majestics Oak Golf Course\, Ham Lake\, MN 55304
UID:e.380.149439
SEQUENCE:3
DTSTAMP:20260424T162405Z
URL:http://members.metronorthchamber.org/events/details/it-s-fore-the-kids-andover-ymca-charity-golf-tournament-09-17-2013-149439
END:VEVENT

END:VCALENDAR
