BEGIN:VCALENDAR
VERSION:2.0
PRODID:-//ChamberMaster//Event Calendar 2.0//EN
METHOD:PUBLISH
X-PUBLISHED-TTL:P3D
REFRESH-INTERVAL:P3D
CALSCALE:GREGORIAN
BEGIN:VEVENT
DTSTART:20190509T123000Z
DTEND:20190509T140000Z
X-MICROSOFT-CDO-ALLDAYEVENT:FALSE
SUMMARY:It's All About the People
DESCRIPTION:Register\n\n\n\n\n\n\n\n\n\n\n\nEvent InfoDescIt's All About the People\n\n\n\n\n\n\n\n\n\n\n\n\n\n\n\nHow to grow your business in a challenging labor market.\n\nAlmost every organization has a help wanted sign or is looking for help to grow the business. This hands-on workshop is focused on discussing successful strategies to meeting a growing customer base in a challenging labor market. The competition for finding good talent is fierce and we will demonstrate how to attract and retain incoming talent. In addition\, we will specifically give insights on efficiency models that use less direct labor\, identifying opportunities for outsourcing\, organizing work into segments that can use contract labor\, and effective use of continuous improvement systems. Finally\, we will talk about ways for your organization to lift capacity without breaking the bank.\n\nYou will learn what drives long term success in your organization and practical techniques on how to supercharge your efforts.\n\nWe will cover the following topics in our workshop\n\n	Labor Market Insights\n	Working with your local area chamber of commerce\n	Modern workforce and expectations\n	Developing self-managed work teams\n	Achieve more capacity without breaking the bank\n	\n		Outsourcing Opportunities\n		Operations Efficiency Models\n		Collaboration models\n		Coopertition (compete and cooperate with your competitors)\n		How to achieve ROI on your efforts\n	\n	\n\nPresenters\n\nJohn Olson // Founder\,Olson Institute and Faculty Member University of St Thomas (moderator and speaker)\n\nBryce Menk // VP Operations\, Creative Apparel\n\nTim O?Neill // Minnesota Department of Economic Development\n\nJosh Berger // CEO\, Brighthat\n\nLori Higgins // MetroNorth Chamber of Commerce
X-ALT-DESC;FMTTYPE=text/html:<div role="menu" style="padding:0px\;position:relative\;color:rgb(57\, 54\, 79)\;font-family:Neue Plak\, -apple-system\, BlinkMacSystemFont\, Roboto\, Helvetica Neue\, Helvetica\, Tahoma\, Arial\, sans-serif\;font-size:0px\;">\n<div style="padding:10px 0px\;border-style:solid\;border-width:1px 0px\;box-sizing:border-box\;position:absolute\;z-index:10000\;top:0px\;width:1080px\;max-height:inherit\;height:66px\;">\n<div style="padding:0px\;letter-spacing:0px\;display:flex\;align-items:center\;">\n<div style="padding:0px\;width:360px\;box-sizing:border-box\;display:inline-block\;overflow:hidden\;vertical-align:top\;letter-spacing:0.5px\;font-size:1rem\;line-height:1.6rem\;">\n<div style="padding:0px\;">\n<div style="padding:0px\;animation-name:fadeIn\;animation-duration:0.7s\;animation-timing-function:linear\;animation-iteration-count:1\;animation-fill-mode:forwards\;opacity:0\;animation-delay:1.8s\;">\n<div style="padding:0px\;">\n<div style="padding:0px\;text-align:center\;"><span style="width:100%\;"><button aria-haspopup="true" data-automation="ticket-modal-btn" style="font-family:inherit\;font-size:15px\;padding:0px 30px\;line-height:26px\;cursor:pointer\;color:rgb(255\, 255\, 255)\;font-style:inherit\;font-variant:inherit\;font-weight:600\;font-stretch:inherit\;overflow:visible\;text-transform:capitalize\;zoom:1\;transition:all 0.2s ease-out 0s\;vertical-align:middle\;position:relative\;width:320px\;height:44px\;border-style:solid\;border-radius:4px\;float:none\;max-width:320px\;" type="button">Register</button></span></div>\n</div>\n</div>\n</div>\n</div>\n</div>\n</div>\n</div>\n\n<section style="position:relative\;color:rgb(57\, 54\, 79)\;font-family:Neue Plak\, -apple-system\, BlinkMacSystemFont\, Roboto\, Helvetica Neue\, Helvetica\, Tahoma\, Arial\, sans-serif\;font-size:0px\;">\n<header style="letter-spacing:0px\;">\n<div style="margin:0px 0px 0px 180px\;padding:0px 15px\;width:720px\;box-sizing:border-box\;display:inline-block\;overflow:hidden\;vertical-align:top\;letter-spacing:0.5px\;font-size:1rem\;line-height:1.6rem\;">\n<h2 style="padding:0px\;height:1px\;width:1px\;overflow:hidden\;clip:rect(1px\, 1px\, 1px\, 1px)\;position:absolute !important\;">Event InfoDescIt&#39\;s All About the People</h2>\n</div>\n</header>\n\n<div style="padding:50px 0px 0px\;letter-spacing:0px\;position:relative\;">\n<div style="margin:0px 0px 0px 90px\;padding:0px 15px\;width:990px\;box-sizing:border-box\;display:inline-block\;overflow:hidden\;vertical-align:top\;letter-spacing:0.5px\;font-size:1rem\;line-height:1.6rem\;">\n<div style="padding:0px\;font-size:0px\;letter-spacing:0px\;border-top:0px\;">\n<div style="padding:0px\;width:560px\;box-sizing:border-box\;display:inline-block\;overflow:hidden\;vertical-align:top\;letter-spacing:0.5px\;font-size:1rem\;line-height:1.6rem\;">\n<div style="margin:0px 0px 30px\;padding:0px 0px 30px\;font-size:0px\;letter-spacing:0px\;">\n<div style="padding:0px 15px\;width:560px\;box-sizing:border-box\;display:inline-block\;overflow:hidden\;vertical-align:top\;letter-spacing:0.5px\;font-size:1rem\;line-height:1.6rem\;">\n<div data-xd-wired="read-more" dorsal-guid="2cf4358b-9212-e584-b485-783851e1300d" style="padding:0px\;">\n<div style="padding:0px\;overflow:hidden\;position:relative\;overflow-wrap:break-word\;">\n<div data-automation="listing-event-description" style="margin:15px 0px 0px\;padding:0px\;"><br />\n<br />\n<em style="padding-top:0px\;">How to grow your business in a challenging labor market.</em><br />\nAlmost every organization has a help wanted sign or is looking for help to grow the business. This hands-on workshop is focused on discussing successful strategies to meeting a growing customer base in a challenging labor market. The competition for finding good talent is fierce and we will demonstrate how to attract and retain incoming talent. In addition\, we will specifically give insights on efficiency models that use less direct labor\, identifying opportunities for outsourcing\, organizing work into segments that can use contract labor\, and effective use of continuous improvement systems. Finally\, we will talk about ways for your organization to lift capacity without breaking the bank.<br />\nYou will learn what drives long term success in your organization and practical techniques on how to supercharge your efforts.<br />\nWe will cover the following topics in our workshop\n<ul>\n	<li style="padding:0px\;">Labor Market Insights</li>\n	<li style="padding:5px 0px 0px\;">Working with your local area chamber of commerce</li>\n	<li style="padding:5px 0px 0px\;">Modern workforce and expectations</li>\n	<li style="padding:5px 0px 0px\;">Developing self-managed work teams</li>\n	<li style="padding:5px 0px 0px\;">Achieve more capacity without breaking the bank\n	<ul>\n		<li style="padding:0px\;">Outsourcing Opportunities</li>\n		<li style="padding:5px 0px 0px\;">Operations Efficiency Models</li>\n		<li style="padding:5px 0px 0px\;">Collaboration models</li>\n		<li style="padding:5px 0px 0px\;">Coopertition (compete and cooperate with your competitors)</li>\n		<li style="padding:5px 0px 0px\;">How to achieve ROI on your efforts</li>\n	</ul>\n	</li>\n</ul>\n<span style="font-weight:700\;padding-top:0px\;">Presenters</span><br />\n<span style="padding-top:0px\;">John Olson // Founder\,Olson Institute and Faculty Member University of St&nbsp\;</span>Thomas&nbsp\;(moderator and speaker)<br />\n<span style="padding-top:0px\;">Bryce Menk // VP Operations\, Creative Apparel</span><br />\n<span style="padding-top:0px\;">Tim O?Neill // Minnesota Department of Economic Development</span><br />\n<span style="padding-top:0px\;">Josh Berger // CEO\, Brighthat</span><br />\n<span style="padding-top:0px\;"><span style="padding-top:0px\;">Lori Higgins // </span>MetroNorth Chamber of Commerce</span></div>\n</div>\n</div>\n</div>\n</div>\n</div>\n</div>\n</div>\n</div>\n</section>\n
LOCATION:Blaine Fire Station 3 11920 Ulysses St NE Minneapolis\, MN 55434
UID:e.380.188957
SEQUENCE:3
DTSTAMP:20260420T022627Z
URL:http://members.metronorthchamber.org/events/details/it-s-all-about-the-people-188957
END:VEVENT

END:VCALENDAR
