BEGIN:VCALENDAR
VERSION:2.0
PRODID:-//ChamberMaster//Event Calendar 2.0//EN
METHOD:PUBLISH
X-PUBLISHED-TTL:P3D
REFRESH-INTERVAL:P3D
CALSCALE:GREGORIAN
BEGIN:VEVENT
DTSTART:20130502T230000Z
DTEND:20130503T003000Z
X-MICROSOFT-CDO-ALLDAYEVENT:FALSE
SUMMARY:Is There a "Buy" Button in Your Customer's Brain?
DESCRIPTION:CEOs\, marketing managers and sales professionals can all benefit from meeting Christophe Morin\, CEO and Co-Founder of Sales Brain. He'll introduce you to Neuromarketing\, the revolutionary discipline that's sweeping the marketplace.
X-ALT-DESC;FMTTYPE=text/html:<span style="font-family:arial\,sans-serif\;"><span style="font-size:10.0pt\;">CEOs\, marketing managers and sales professionals can all benefit from meeting Christophe Morin\, CEO and Co-Founder of Sales Brain. He&rsquo\;ll introduce you to Neuromarketing\, the revolutionary discipline that&rsquo\;s sweeping the marketplace.</span></span>
LOCATION:Risdall Marketing Group 550 Main Street New Brighton\, MN 55112
UID:e.380.148888
SEQUENCE:3
DTSTAMP:20260425T002131Z
URL:http://members.metronorthchamber.org/events/details/is-there-a-buy-button-in-your-customer-s-brain-05-02-2013-148888
END:VEVENT

END:VCALENDAR
