BEGIN:VCALENDAR
VERSION:2.0
PRODID:-//ChamberMaster//Event Calendar 2.0//EN
METHOD:PUBLISH
X-PUBLISHED-TTL:P3D
REFRESH-INTERVAL:P3D
CALSCALE:GREGORIAN
BEGIN:VEVENT
DTSTART:20180711T210000Z
DTEND:20180711T230000Z
X-MICROSOFT-CDO-ALLDAYEVENT:FALSE
SUMMARY:Invictus Brewery Ribbon Cutting
DESCRIPTION:A ribbon cutting to celebrate the grand opening of Invictus Brewery. MetroNorth members will enjoy a $1 discount on beer plus door prizes. The ribbon will be cut at 5 pm.
X-ALT-DESC;FMTTYPE=text/html:A ribbon cutting to celebrate the grand opening of Invictus Brewery. MetroNorth members will enjoy a $1 discount on beer plus door prizes. The ribbon will be cut at 5 pm.&nbsp\;
LOCATION:Invictus Brewery 2025 105th Ave NE Blaine\, MN 55449
UID:e.380.185757
SEQUENCE:3
DTSTAMP:20260420T182615Z
URL:http://members.metronorthchamber.org/events/details/invictus-brewery-ribbon-cutting-185757
END:VEVENT

END:VCALENDAR
