BEGIN:VCALENDAR
VERSION:2.0
PRODID:-//ChamberMaster//Event Calendar 2.0//EN
METHOD:PUBLISH
X-PUBLISHED-TTL:P3D
REFRESH-INTERVAL:P3D
CALSCALE:GREGORIAN
BEGIN:VEVENT
DTSTART:20170814T220000Z
DTEND:20170814T223000Z
X-MICROSOFT-CDO-ALLDAYEVENT:FALSE
SUMMARY:Invictus Brewery Groundbreaking
DESCRIPTION:Join us for a Groundbreaking Ceremony to celebrate New Chamber Member Invictus Brewery!
X-ALT-DESC;FMTTYPE=text/html:Join us for a Groundbreaking Ceremony to celebrate New Chamber Member Invictus Brewery!&nbsp\;&nbsp\;&nbsp\;&nbsp\;
LOCATION:2025 105th Ave NE\, Blaine Vacant Lot on the north side of 105th west of Nassau St
UID:e.380.176478
SEQUENCE:3
DTSTAMP:20260423T093906Z
URL:http://members.metronorthchamber.org/events/details/invictus-brewery-groundbreaking-176478
END:VEVENT

END:VCALENDAR
