BEGIN:VCALENDAR
VERSION:2.0
PRODID:-//ChamberMaster//Event Calendar 2.0//EN
METHOD:PUBLISH
X-PUBLISHED-TTL:P3D
REFRESH-INTERVAL:P3D
CALSCALE:GREGORIAN
BEGIN:VEVENT
DTSTART:20150410T123000Z
DTEND:20150410T180000Z
X-MICROSOFT-CDO-ALLDAYEVENT:FALSE
SUMMARY:Invested Team = Strong Business
DESCRIPTION:2015 Q2 GrowthCLUB\n\nInvested Team = Strong Business\n\nIt's more than just Donut-Fridays\n\n\n\nCompanies work to make money.  Great companies work at doing this while building enduring institutions\; investing in the future while being aware of the need to build people.\n\nIf actions speak louder than words\, then your company values shouldn't just be nice words on a poster.  They should grow legs and be the behavior of your company.\n\n\n\nJOIN US as we drill down on invested team members and the key factors that can bring you an ROI that can't be duplicated in someone else's business.\n\n\n\nin addition to hearing about innovative programs and best practices\, you'll also hear about the challenges and the elusiveness of employee engagement.  You'll find you're not alone.\n\nWe encourage you to be part of this open and honest discussion for business owners\, leaders\, and team members.\n\n\n\nREGISTER TODAY HERE!\n\n \n\nThank you to our Community Champion Sponsor...\n\nFroehling Anderson\, a Top 25 CPA firm for the past 10 years.  Providing business consulting\, tax audit\, and accounting services for over 60 years.  Our philosophy: Put the people before the numbers.\n\nAlan Delage\, Partner\, Attorney\, CPA\, and holds a Master of Law in Taxation\, will be speaking about the rules\, uses\, and benefits of an Employee Stock Ownership Plan.\n\n\n\nThank you to our Community Advocate Sponsors...\n\nBizzyWeb\, Franklin Outdoor Advertising\, Freedom Strategy Group\, HRQ\, & RB's Computer Service\n\n\n\nNOW is the time to say YES to your business!\n\nRegister here today
X-ALT-DESC;FMTTYPE=text/html:<div style="text-align: center\;">2015 Q2 GrowthCLUB<br />\n<span style="font-size:18px"><u>Invested Team = Strong Business</u><br />\n<span style="font-size:14px">It&#39\;s more than just Donut-Fridays<br />\n<br />\n<strong>Companies work to make money. &nbsp\;Great companies work at doing this while building enduring institutions\; investing in the future while being aware of the need to build people.<br />\n<em>If actions speak louder than words\, then your company values shouldn&#39\;t just be nice words on a poster. &nbsp\;They should grow legs and be the behavior of your company.</em></strong><br />\n<br />\n<strong><a href="http://businesscoachmn.com/event/q2-growthclub/"><span style="color:#FF0000">JOIN US</span></a>&nbsp\;</strong><span style="color:#000000">as we drill down on invested team members and the key factors that can bring you an ROI that can&#39\;t be duplicated in someone else&#39\;s business.</span></span></span><br />\n<br />\nin addition to hearing about innovative programs and best practices\, you&#39\;ll also hear about the challenges and the elusiveness of employee engagement. &nbsp\;You&#39\;ll find you&#39\;re not alone.<br />\nWe encourage you to be part of this open and honest discussion for business owners\, leaders\, and team members.<br />\n<br />\n<span style="font-size:20px"><span style="color:#FF0000">REGISTER TODAY HERE!</span></span><br />\n&nbsp\;</div>\n\n<div><span style="font-size:12px">Thank you to our Community Champion Sponsor...<br />\nFroehling Anderson\, a Top 25 CPA firm for the past 10 years. &nbsp\;Providing business consulting\, tax audit\, and accounting services for over 60 years. &nbsp\;Our philosophy:&nbsp\;<em>Put the people before the numbers.</em><br />\nAlan Delage\, Partner\, Attorney\, CPA\, and holds a Master of Law in Taxation\, will be speaking about the rules\, uses\, and benefits of an Employee Stock Ownership Plan.</span></div>\n\n<div style="text-align: center\;"><br />\n<span style="font-size:20px"><span style="font-size:12px">Thank you to our Community Advocate Sponsors...<br />\n<em>BizzyWeb\, Franklin Outdoor Advertising\, Freedom Strategy Group\, HRQ\, &amp\; RB&#39\;s Computer Service</em></span></span><br />\n<br />\n<span style="font-size:18px"><strong><em>NOW</em> is the time to say <em>YES</em> to your business!</strong><br />\n<a href="http://businesscoachmn.com/event/q2-growthclub/"><span style="color:#FF0000">Register here today</span></a></span><br />\n&nbsp\;</div>\n
LOCATION:Bunker Hills Golf Club 12800 Bunker Prairie Road Northwest Coon Rapids\, MN 55448
UID:e.380.157267
SEQUENCE:3
DTSTAMP:20260423T100358Z
URL:http://members.metronorthchamber.org/events/details/invested-team-strong-business-04-10-2015-157267
END:VEVENT

END:VCALENDAR
