BEGIN:VCALENDAR
VERSION:2.0
PRODID:-//ChamberMaster//Event Calendar 2.0//EN
METHOD:PUBLISH
X-PUBLISHED-TTL:P3D
REFRESH-INTERVAL:P3D
CALSCALE:GREGORIAN
BEGIN:VEVENT
DTSTART:20180920T233000Z
DTEND:20180921T010000Z
X-MICROSOFT-CDO-ALLDAYEVENT:FALSE
SUMMARY:Intro to Yoga - Beginners Encouraged
DESCRIPTION:No experience needed! Beginners encouraged and non-athletes are welcome! This workshop is designed for those who have always wanted to try yoga\, but never quite made it to class. This is a very low-key workshop for all levels of activity that will cover some basic concepts and poses in yoga\, as well as breathing techniques and relaxations. You do not need to be flexible to take yoga\; you take yoga to get flexible! \n\n$20 per class to Michelle. Join us for all classes or just a few!
X-ALT-DESC;FMTTYPE=text/html:<span style="color: rgb(29\, 33\, 41)\; font-family: Helvetica\, Arial\, sans-serif\; font-size: 14px\; background-color: rgb(255\, 255\, 255)\;">No experience needed! Beginners encouraged and non-athletes are welcome! This workshop is designed for those who have always wanted to try yoga\, but never quite made it to class. This is a very low-key workshop for all levels of activity that will cover some basic concepts and poses in yoga\, as well as breathing techniques and relaxations. You do not need to be flexible to take yoga\; you take yoga to get flexible!&nbsp\;</span><br style="color: rgb(29\, 33\, 41)\; font-family: Helvetica\, Arial\, sans-serif\; font-size: 14px\; background-color: rgb(255\, 255\, 255)\;" />\n<span style="color: rgb(29\, 33\, 41)\; font-family: Helvetica\, Arial\, sans-serif\; font-size: 14px\; background-color: rgb(255\, 255\, 255)\;">$20 per class to Michelle. Join us for all classes or just a few!</span>
LOCATION:11417 Hanson Boulevard Northwest\, Coon Rapids\, Minnesota 55433
UID:e.380.186914
SEQUENCE:3
DTSTAMP:20260420T152550Z
URL:http://members.metronorthchamber.org/events/details/intro-to-yoga-beginners-encouraged-186914
END:VEVENT

END:VCALENDAR
