BEGIN:VCALENDAR
VERSION:2.0
PRODID:-//ChamberMaster//Event Calendar 2.0//EN
METHOD:PUBLISH
X-PUBLISHED-TTL:P3D
REFRESH-INTERVAL:P3D
CALSCALE:GREGORIAN
BEGIN:VEVENT
DTSTART:20190316T173000Z
DTEND:20190316T184500Z
X-MICROSOFT-CDO-ALLDAYEVENT:FALSE
SUMMARY:Intro to Yoga 1.0
DESCRIPTION:No experience needed! Beginners encouraged and non-athletes are welcome! This class is designed for those who have always wanted to try yoga\, but never quite made it to class. This is a very low-key class for all levels of activity that will cover some basic concepts and poses in yoga\, as well as breathing techniques\, light stretching\, and end with relaxing meditation. You do not need to be flexible to take yoga\; you take yoga to get flexible! $20 per person to Michelle.\n\n\n\nRSVP online here
X-ALT-DESC;FMTTYPE=text/html:<span style="color:rgb(29\, 33\, 41)\; font-family:helvetica\,arial\,sans-serif\; font-size:14px">No experience needed! Beginners encouraged and non-athletes are welcome! This class is designed for those who have always wanted to try yoga\, but never quite made it to class. This is a very low-key class for all levels of activity that will cover some basic concepts and poses in yoga\, as well as breathing techniques\, light stretching\, and end with relaxing meditation. You do not need to be flexible to take yoga\; you take yoga to get flexible! $20 per person to Michelle.<br />\n<br />\nRSVP online <a href="https://clients.mindbodyonline.com/ASP/res_a.asp?tg=31&amp\;classId=47&amp\;classDate=3%2F16%2F2019&amp\;clsLoc=1&amp\;fbclid=IwAR2WzxAZciYeemwrT3ETn_E-oCHw8a2grvaKafj4R60OtJ8oBTevnE-qLj8">here</a></span><a href="https://clients.mindbodyonline.com/ASP/res_a.asp?tg=31&amp\;classId=47&amp\;classDate=3%2F16%2F2019&amp\;clsLoc=1&amp\;fbclid=IwAR2WzxAZciYeemwrT3ETn_E-oCHw8a2grvaKafj4R60OtJ8oBTevnE-qLj8">&nbsp\;</a><span style="color:rgb(29\, 33\, 41)\; font-family:helvetica\,arial\,sans-serif\; font-size:14px"><a href="https://clients.mindbodyonline.com/ASP/res_a.asp?tg=31&amp\;classId=47&amp\;classDate=3%2F16%2F2019&amp\;clsLoc=1&amp\;fbclid=IwAR2WzxAZciYeemwrT3ETn_E-oCHw8a2grvaKafj4R60OtJ8oBTevnE-qLj8">&nbsp\;</a></span>
LOCATION:Total Health & Healing Center Studio space 11417 NW Hanson Blvd Coon Rapids MN 55433
UID:e.380.188626
SEQUENCE:3
DTSTAMP:20260420T060429Z
URL:http://members.metronorthchamber.org/events/details/intro-to-yoga-1-0-188626
END:VEVENT

END:VCALENDAR
