BEGIN:VCALENDAR
VERSION:2.0
PRODID:-//ChamberMaster//Event Calendar 2.0//EN
METHOD:PUBLISH
X-PUBLISHED-TTL:P3D
REFRESH-INTERVAL:P3D
CALSCALE:GREGORIAN
BEGIN:VEVENT
DTSTART:20190309T180000Z
DTEND:20190309T190000Z
X-MICROSOFT-CDO-ALLDAYEVENT:FALSE
SUMMARY:Intro to Essential Oils
DESCRIPTION:Please join us for a free class on Essential Oils
X-ALT-DESC;FMTTYPE=text/html:Please join us for a free class on Essential Oils
LOCATION:INI Bodywork 1063 109th Avenue NE Blaine\, MN 55434
UID:e.380.188450
SEQUENCE:3
DTSTAMP:20260420T054915Z
URL:http://members.metronorthchamber.org/events/details/intro-to-essential-oils-188450
END:VEVENT

END:VCALENDAR
