BEGIN:VCALENDAR
VERSION:2.0
PRODID:-//ChamberMaster//Event Calendar 2.0//EN
METHOD:PUBLISH
X-PUBLISHED-TTL:P3D
REFRESH-INTERVAL:P3D
CALSCALE:GREGORIAN
BEGIN:VEVENT
DTSTART:20171219T003500Z
DTEND:20171219T011500Z
X-MICROSOFT-CDO-ALLDAYEVENT:FALSE
SUMMARY:IntenSati LIVE! The ultimate Cardio mind body spirit experience
DESCRIPTION:Ready to upgrade your life? your business? or just your body?  \n\nJoin us for your heart pumping\, mind altering fitness experience!
X-ALT-DESC;FMTTYPE=text/html:Ready to upgrade your life? your business? or just your body? &nbsp\;<br />\nJoin us for your heart pumping\, mind altering fitness experience!
LOCATION:Anytime Fitness Ham Lake 1321 Andover Blvd NE Ham Lake\, MN 55304
UID:e.380.176548
SEQUENCE:3
DTSTAMP:20260421T054212Z
URL:http://members.metronorthchamber.org/events/details/intensati-live-the-ultimate-cardio-mind-body-spirit-experience-12-18-2017-176548
END:VEVENT

END:VCALENDAR
