BEGIN:VCALENDAR
VERSION:2.0
PRODID:-//ChamberMaster//Event Calendar 2.0//EN
METHOD:PUBLISH
X-PUBLISHED-TTL:P3D
REFRESH-INTERVAL:P3D
CALSCALE:GREGORIAN
BEGIN:VEVENT
DTSTART:20190611T163000Z
DTEND:20190611T180000Z
X-MICROSOFT-CDO-ALLDAYEVENT:FALSE
SUMMARY:Inspiring HOPE Luncheon
DESCRIPTION:The Inspiring HOPE Luncheon benefiting HOPE 4 Youth supports young people experiencing homelessness right here in our community. The Luncheon is one-hour\, emceed by Rena Sarigianopoulos of KARE 11\, that will change your life as well as the lives of our youth.\n\n						What   Inspiring HOPE Luncheon\n\n						When   Tuesday\, June 11\, 2019\; 11:30 a.m. Registration\, Noon   1 p.m. Luncheon and Inspiring Program Featuring Our Youth\n\n						Where    Edinburgh USA (8700 Edinbrook Crossing Brooklyn Park\, MN 55443)\n\n						Cost   There is no cost to attend the Luncheon\, as it is sponsored\; there will be an opportunity to make a gift at the conclusion of the program.\n\n						Register   Please register online or complete the table form here. You can register as a table of 10\, partial table or individual.\n\n						Questions? Contact Kate Ziegler\, Community Outreach and Events Manager\, at kziegler@hope4youthmn.org or 763.323.2066\, ext. 114.\n\n						Sponsorship Opportunities   For more information or to confirm your sponsorship\, contact Kate Ziegler at kziegler@hope4youthmn.org or 763.323.2066\, ext. 114.
X-ALT-DESC;FMTTYPE=text/html:<table border="0" cellpadding="0" cellspacing="0" class="galileo-ap-layout-editor" style="border-collapse:collapse\; caret-color:rgb(0\, 0\, 0)\; color:rgb(0\, 0\, 0)\; font-family:helvetica\; font-size:12px\; min-width:100%\; table-layout:fixed\; text-size-adjust:auto\; width:100%">\n	<tbody>\n		<tr>\n			<td>\n			<table border="0" cellpadding="0" cellspacing="0" style="border-collapse:collapse\; table-layout:fixed\; width:100%">\n				<tbody>\n					<tr>\n						<td>\n						<p><span style="font-family:arial\,helvetica\,sans-serif"><span style="color:rgb(0\, 0\, 0)">T<span style="font-size:16px">he </span></span></span><span style="font-size:16px"><a href="http://r20.rs6.net/tn.jsp?f=001a5NTvEEz2V8DNifH_zAgmUvkhc-DCsSVpo6OF1axhgWXPIO3gXRPOgF2v0hiWZ2WZitvVve4i_YrT0J5gU_5TL6glIgE7kK5hkwcbb6VSvhR5lX7dUV3zuSg_umawMK7SSG2NBY_8WoSEKtyW5j8E-7wgmJHRuKo4N2LQAqIeHo5ER_SdKLT5w==&amp\;c=78j5cQeE0Q-A_kjlPYjnT7LeO-n8xDU8N5gc3RJ--XDdauVRuR1oOg==&amp\;ch=djCl_x6AOgKmzKyryvTkG1ENeFUs_1-Sn_cg-lGD0GN5wgwUbVOoZA==" style="color: rgb(83\, 178\, 187)\; font-size: 16px\; font-weight: bold\; font-style: italic\;" target="_blank">Inspiring HOPE Luncheon</a><span style="color:rgb(0\, 0\, 0)"> </span><span style="font-family:arial\,helvetica\,sans-serif"><span style="color:rgb(0\, 0\, 0)">benefiting </span><a href="http://r20.rs6.net/tn.jsp?f=001a5NTvEEz2V8DNifH_zAgmUvkhc-DCsSVpo6OF1axhgWXPIO3gXRPOijrai6QYqUR11nhTSxKrZ2ooTMKNrjNO8Niu-o7ckECYVen0FQ-VgBysULXKNl1cgz98mdJFxtA9TyC7Z5i_cFlkTP8y-sSbQ==&amp\;c=78j5cQeE0Q-A_kjlPYjnT7LeO-n8xDU8N5gc3RJ--XDdauVRuR1oOg==&amp\;ch=djCl_x6AOgKmzKyryvTkG1ENeFUs_1-Sn_cg-lGD0GN5wgwUbVOoZA==" style="color: rgb(83\, 178\, 187)\; font-size: 16px\; font-weight: bold\; font-style: italic\;" target="_blank">HOPE 4 Youth</a><span style="color:rgb(0\, 0\, 0)"> supports young people experiencing homelessness right here in our community. The Luncheon is one-hour\, emceed by Rena Sarigianopoulos of KARE 11\, that will change your life as well as the lives of our youth.</span></span></span></p>\n\n						<p><span style="font-size:16px"><span style="font-family:arial\,helvetica\,sans-serif"><strong>What&nbsp\;&bull\;&nbsp\;</strong><span style="color:rgb(0\, 0\, 0)">Inspiring HOPE Luncheon</span></span></span></p>\n\n						<p><span style="font-size:16px"><span style="font-family:arial\,helvetica\,sans-serif"><strong>When &bull\;&nbsp\;</strong><span style="color:rgb(0\, 0\, 0)">Tuesday\, June 11\, 2019\; 11:30 a.m. Registration\, Noon &ndash\; 1 p.m. Luncheon and Inspiring Program Featuring Our Youth</span></span></span></p>\n\n						<p><span style="font-size:16px"><span style="font-family:arial\,helvetica\,sans-serif"><strong>Where &bull\;</strong><strong>&nbsp\;&nbsp\;</strong><span style="color:rgb(0\, 0\, 0)">Edinburgh USA (8700 Edinbrook Crossing Brooklyn Park\, MN 55443)</span></span></span></p>\n\n						<p><span style="font-size:16px"><strong style="font-family:arial\,helvetica\,sans-serif">Cost &bull\;</strong><span style="color:rgb(188\, 188\, 62)\; font-family:arial\,helvetica\,sans-serif">&nbsp\;</span><span style="font-family:arial\,helvetica\,sans-serif">There is no cost to attend the Luncheon\, as it is sponsored\; there will be an opportunity to make a gift at the conclusion of the program.</span></span></p>\n\n						<p><span style="font-size:16px"><span style="font-family:arial\,helvetica\,sans-serif"><strong>Register &bull\;</strong><span style="color:rgb(0\, 0\, 0)">&nbsp\;Please register&nbsp\;</span><a href="http://r20.rs6.net/tn.jsp?f=001a5NTvEEz2V8DNifH_zAgmUvkhc-DCsSVpo6OF1axhgWXPIO3gXRPOgF2v0hiWZ2WWzuL-HGCOtGMyjZSxLAKb20HV7Y6enOn-d-7RGqPZ2aNFWqu92LNL7UDbubcKG-B70H_BJhXJfEozRxzl2H_AS7uyhzWri8yLEvOvu5O9fpSDHvzHw2BI_mYv--eHYkAZ7qmJQ_F14OSITGxVYwy84iLlzH1-d0Hilwd2_wW6kscgzuG8kh1Oj0LY8V8Sox0&amp\;c=78j5cQeE0Q-A_kjlPYjnT7LeO-n8xDU8N5gc3RJ--XDdauVRuR1oOg==&amp\;ch=djCl_x6AOgKmzKyryvTkG1ENeFUs_1-Sn_cg-lGD0GN5wgwUbVOoZA==" style="color: rgb(83\, 178\, 187)\; font-weight: bold\; font-size: 16px\;" target="_blank">online</a><span style="color:rgb(0\, 0\, 0)">&nbsp\;or complete the table form&nbsp\;</span><a href="http://r20.rs6.net/tn.jsp?f=001a5NTvEEz2V8DNifH_zAgmUvkhc-DCsSVpo6OF1axhgWXPIO3gXRPOiZWQ_DbaZaNaClQ56rgZGiusHJV5BOikzyUOcHp5g51K-Kc5RLpa4udiayyLQRNKNRJuE9haplKtpPXbeeOenKXRQQUVeQTmimq0liUxt9LUAVxjKikNL0m8YviiChKeuL28hE6FDTC&amp\;c=78j5cQeE0Q-A_kjlPYjnT7LeO-n8xDU8N5gc3RJ--XDdauVRuR1oOg==&amp\;ch=djCl_x6AOgKmzKyryvTkG1ENeFUs_1-Sn_cg-lGD0GN5wgwUbVOoZA==" style="color: rgb(83\, 178\, 187)\; font-weight: bold\; font-size: 16px\;" target="_blank">here</a><span style="color:rgb(0\, 0\, 0)">. You can register as a table of 10\, partial table or individual.</span></span></span></p>\n\n						<p><span style="font-size:16px"><span style="font-family:arial\,helvetica\,sans-serif"><strong>Questions?&nbsp\;</strong><span style="color:rgb(0\, 0\, 0)">Contact Kate Ziegler\, Community Outreach and Events Manager\, at&nbsp\;</span><strong><a href="mailto:kziegler@hope4youthmn.org">kziegler@hope4youthmn.org</a></strong><span style="color:rgb(0\, 0\, 0)">&nbsp\;or 763.323.2066\, ext. 114.</span></span></span></p>\n\n						<p><span style="font-size:16px"><span style="font-family:arial\,helvetica\,sans-serif"><strong>Sponsorship Opportunities &bull\;</strong><span style="color:rgb(188\, 188\, 62)">&nbsp\;</span><span style="color:rgb(0\, 0\, 0)">For more information or to confirm your sponsorship\, contact Kate Ziegler at&nbsp\;</span><strong><a href="mailto:kziegler@hope4youthmn.org">kziegler@hope4youthmn.org</a></strong><span style="color:rgb(0\, 0\, 0)">&nbsp\;or 763.323.2066\, ext. 114.</span></span></span></p>\n						</td>\n					</tr>\n				</tbody>\n			</table>\n			</td>\n		</tr>\n	</tbody>\n</table>\n
LOCATION:Where Edinburgh USA (8700 Edinbrook Crossing Brooklyn Park\, MN 55443)
UID:e.380.189332
SEQUENCE:3
DTSTAMP:20260420T002729Z
URL:http://members.metronorthchamber.org/events/details/inspiring-hope-luncheon-06-11-2019-189332
END:VEVENT

END:VCALENDAR
