BEGIN:VCALENDAR
VERSION:2.0
PRODID:-//ChamberMaster//Event Calendar 2.0//EN
METHOD:PUBLISH
X-PUBLISHED-TTL:P3D
REFRESH-INTERVAL:P3D
CALSCALE:GREGORIAN
BEGIN:VEVENT
DTSTART:20141212T173000Z
DTEND:20141212T191500Z
X-MICROSOFT-CDO-ALLDAYEVENT:FALSE
SUMMARY:Insights into the Kennedy Assassination
DESCRIPTION:On November 22\, 1963\, President John F. Kennedy was assassinated. This singular event shook the nation and fueled a multitude of conspiracy theories. People of all generations and backgrounds are still fascinated by this fateful day.\n\n \n\nThe MetroNorth Chamber is pleased to present U.S. District Judge John R. Tunheim as the keynote for our annual luncheon on Friday\, Dec 12. As chair of the U.S. Assassination Records Review Board\, Judge  Tunheim has held one of the fatal bullets\, examined the president's coat\, and peered through the scope of the rifle alleged to have been used by Lee Harvey Oswald - 3 key pieces of evidence in the assassination that continues to general speculation 4 decades later. From the Warren Commission\, to the "magic bullet\," to Lee Harvey Oswald\, and the questions concerning organized crime and foreign governments\, Judge Tunheim will examine what we know about one of the 20th century's most infamous murders.
X-ALT-DESC;FMTTYPE=text/html:<span style="font-size: 9pt\;"><span style="font-family: tahoma\,sans-serif\;"><span style="color: black\;">On November 22\, 1963\, President John F. Kennedy was assassinated.&nbsp\;This singular event shook the nation and fueled a multitude of conspiracy theories. People of all generations and backgrounds are still fascinated by this fateful day.</span></span></span><br />\n&nbsp\;<br />\n<span style="font-size: 9pt\;"><span style="font-family: tahoma\,sans-serif\;"><span style="color: black\;">The MetroNorth Chamber is pleased to present U.S. District Judge John R. Tunheim as the keynote for our annual luncheon on Friday\, Dec 12. As chair of the U.S. Assassination Records Review Board\, Judge&nbsp\; Tunheim has held one of the fatal bullets\, examined the president&#39\;s coat\, and peered through the scope of the rifle alleged to have been used by Lee Harvey Oswald - 3 key pieces of evidence in the assassination that continues to general speculation 4 decades later.&nbsp\;From the Warren Commission\, to the &quot\;magic bullet\,&quot\; to Lee Harvey Oswald\, and the questions concerning organized crime and foreign governments\, Judge Tunheim will examine what we know about one of the 20th century&#39\;s most infamous murders.&nbsp\;</span></span></span>
LOCATION:National Sports Center 105th and Hwy 65
UID:e.380.151639
SEQUENCE:3
DTSTAMP:20260423T163110Z
URL:http://members.metronorthchamber.org/events/details/insights-into-the-kennedy-assassination-12-12-2014-151639
END:VEVENT

END:VCALENDAR
