BEGIN:VCALENDAR
VERSION:2.0
PRODID:-//ChamberMaster//Event Calendar 2.0//EN
METHOD:PUBLISH
X-PUBLISHED-TTL:P3D
REFRESH-INTERVAL:P3D
CALSCALE:GREGORIAN
BEGIN:VEVENT
DTSTART:20181212T010000Z
DTEND:20181212T023000Z
X-MICROSOFT-CDO-ALLDAYEVENT:FALSE
SUMMARY:Insider Secrets: Our Best Keys of Advice for Home Buyers
DESCRIPTION:Join J & C Peterson Lending Team of Marketplace Home Mortgage\, LLC at the Coon Rapids Civic Center in Civic Room C to learn about current rates & trends\; how to prepare to buy a home\; the different pre-approval options\; how credit scores affect your rate\; down payment assistance programs & grants\; and for A CHANCE TO WIN PRIZES each session! Seating is limited!\n\n\n\nAll sessions run from 7:00 PM - 8:30 PM:\n\nTue\, Nov 20\, 2018\n\nTue\, Dec 11\, 2018\n\nTue\, Jan 15\, 2019\n\nTue\, Feb 12\, 2019\n\nTue\, Mar 19\, 2019\n\nTue\, Apr 16\, 2019
X-ALT-DESC;FMTTYPE=text/html:<span style="color:rgb(29\, 33\, 41)\; font-family:helvetica\,arial\,sans-serif\; font-size:14px">Join&nbsp\;</span><a href="https://www.facebook.com/PetersonTeamMHM/" style="color: rgb(54\, 88\, 153)\; cursor: pointer\; text-decoration-line: none\; font-family: Helvetica\, Arial\, sans-serif\; font-size: 14px\;" target="_blank">J &amp\; C Peterson Lending Team</a><span style="color:rgb(29\, 33\, 41)\; font-family:helvetica\,arial\,sans-serif\; font-size:14px">&nbsp\;of&nbsp\;</span><a href="https://www.facebook.com/MarketplaceHomeMortgage/" style="color: rgb(54\, 88\, 153)\; cursor: pointer\; text-decoration-line: none\; font-family: Helvetica\, Arial\, sans-serif\; font-size: 14px\;" target="_blank">Marketplace Home Mortgage\, LLC</a><span style="color:rgb(29\, 33\, 41)\; font-family:helvetica\,arial\,sans-serif\; font-size:14px">&nbsp\;at the Coon Rapids Civic Center in Civic Room C to learn about current rates &amp\; trends\; how to prepare to buy a home\; the different pre-approval options\; how credit scores affect your rate\; down payment assistance programs &amp\; grants\; and for A CHANCE TO WIN PRIZES each session! Seating is limited!</span><br />\n<br />\n<span style="color:rgb(29\, 33\, 41)\; font-family:helvetica\,arial\,sans-serif\; font-size:14px">All sessions run from 7:00 PM - 8:30 PM:</span><br />\n<span style="color:rgb(29\, 33\, 41)\; font-family:helvetica\,arial\,sans-serif\; font-size:14px">Tue\, Nov 20\, 2018</span><br />\n<span style="color:rgb(29\, 33\, 41)\; font-family:helvetica\,arial\,sans-serif\; font-size:14px">Tue\, Dec 11\, 2018</span><br />\n<span style="color:rgb(29\, 33\, 41)\; font-family:helvetica\,arial\,sans-serif\; font-size:14px">Tue\, Jan 15\, 2019</span><br />\n<span style="color:rgb(29\, 33\, 41)\; font-family:helvetica\,arial\,sans-serif\; font-size:14px">Tue\, Feb 12\, 2019</span><br />\n<span style="color:rgb(29\, 33\, 41)\; font-family:helvetica\,arial\,sans-serif\; font-size:14px">Tue\, Mar 19\, 2019</span><br />\n<span style="color:rgb(29\, 33\, 41)\; font-family:helvetica\,arial\,sans-serif\; font-size:14px">Tue\, Apr 16\, 2019</span>
LOCATION:Coon Rapids Civic Center in Civic Room C: 11155 Robinson Dr NW\, Coon Rapids\, Minnesota 55433
UID:e.380.187475
SEQUENCE:3
DTSTAMP:20260420T105112Z
URL:http://members.metronorthchamber.org/events/details/insider-secrets-our-best-keys-of-advice-for-home-buyers-187475
END:VEVENT

END:VCALENDAR
