BEGIN:VCALENDAR
VERSION:2.0
PRODID:-//ChamberMaster//Event Calendar 2.0//EN
METHOD:PUBLISH
X-PUBLISHED-TTL:P3D
REFRESH-INTERVAL:P3D
CALSCALE:GREGORIAN
BEGIN:VEVENT
DTSTART;VALUE=DATE:20180423
DTEND;VALUE=DATE:20180430
TRANSP:TRANSPARENT
X-MICROSOFT-CDO-ALLDAYEVENT:TRUE
SUMMARY:In-Store Shopping Event
DESCRIPTION:In Store Shopping Event with Exclusive Member Benefits
X-ALT-DESC;FMTTYPE=text/html:In Store Shopping Event with Exclusive Member Benefits
LOCATION:Carhartt in Riverdale Village 12680 Riverdale Blvd\, Coon Rapids\, MN 55448
UID:e.380.184796
SEQUENCE:3
DTSTAMP:20260420T230843Z
URL:http://members.metronorthchamber.org/events/details/in-store-shopping-event-184796
END:VEVENT

END:VCALENDAR
