BEGIN:VCALENDAR
VERSION:2.0
PRODID:-//ChamberMaster//Event Calendar 2.0//EN
METHOD:PUBLISH
X-PUBLISHED-TTL:P3D
REFRESH-INTERVAL:P3D
CALSCALE:GREGORIAN
BEGIN:VEVENT
DTSTART:20180727T200000Z
DTEND:20180728T003000Z
X-MICROSOFT-CDO-ALLDAYEVENT:FALSE
SUMMARY:Impact Services 5th Annual 9 Hole Golf Tournament
DESCRIPTION:Join us for the annual 9 hole golf outing and dinner on July 27th.\n\nNew Location:  Majestic Oaks Golf Club\n\n3:00 Shotgun Start\n\n6:00 Dinner\n\nFoursomes: $260\n\nSingle Golfer-$65\n\n \n\nGames\, Contests\, Prizes and Silent Auction!\n\nNon-Golfing Guest Welcome
X-ALT-DESC;FMTTYPE=text/html:<h2 data-fontsize="32" data-lineheight="40" style="box-sizing: border-box\; color: rgb(23\, 23\, 23)\; margin: 1em 0px\; font-family: Questrial\, Arial\, Helvetica\, sans-serif\; font-weight: 400\; line-height: 1.25\; font-size: 32px\; background-color: rgb(255\, 255\, 255)\;">Join us for the annual 9 hole golf outing and dinner on July 27th.</h2>\n\n<p style="box-sizing: border-box\; margin: 0px 0px 10px\; line-height: 1.7\; font-family: Questrial\, Arial\, Helvetica\, sans-serif\; font-size: 19px\; background-color: rgb(255\, 255\, 255)\;"><span style="box-sizing: border-box\; font-weight: 700\;">New Location:&nbsp\;&nbsp\;<a href="http://www.majesticoaksgolfclub.com/" rel="noopener" style="box-sizing: border-box\; text-decoration-line: none\; color: rgb(51\, 51\, 51)\; transition-property: color\, background-color\, border-color\; transition-duration: 0.2s\; transition-timing-function: linear\;" target="_blank">Majestic Oaks Golf Club</a></span></p>\n\n<p style="box-sizing: border-box\; margin: 0px 0px 10px\; line-height: 1.7\; font-family: Questrial\, Arial\, Helvetica\, sans-serif\; font-size: 19px\; background-color: rgb(255\, 255\, 255)\;">3:00 Shotgun Start</p>\n\n<p style="box-sizing: border-box\; margin: 0px 0px 10px\; line-height: 1.7\; font-family: Questrial\, Arial\, Helvetica\, sans-serif\; font-size: 19px\; background-color: rgb(255\, 255\, 255)\;">6:00 Dinner</p>\n\n<p style="box-sizing: border-box\; margin: 0px 0px 10px\; line-height: 1.7\; font-family: Questrial\, Arial\, Helvetica\, sans-serif\; font-size: 19px\; background-color: rgb(255\, 255\, 255)\;">Foursomes: $260</p>\n\n<p style="box-sizing: border-box\; margin: 0px 0px 10px\; line-height: 1.7\; font-family: Questrial\, Arial\, Helvetica\, sans-serif\; font-size: 19px\; background-color: rgb(255\, 255\, 255)\;">Single Golfer-$65</p>\n\n<p style="box-sizing: border-box\; margin: 0px 0px 10px\; line-height: 1.7\; font-family: Questrial\, Arial\, Helvetica\, sans-serif\; font-size: 19px\; background-color: rgb(255\, 255\, 255)\;">&nbsp\;</p>\n\n<h3 data-fontsize="24" data-lineheight="30" style="box-sizing: border-box\; margin-top: 1em\; margin-bottom: 1em\; font-family: Questrial\, Arial\, Helvetica\, sans-serif\; font-weight: 400\; line-height: 1.25\; font-size: 24px\; color: rgb(23\, 23\, 23)\; background-color: rgb(255\, 255\, 255)\;"><span style="box-sizing: border-box\; font-weight: 700\;">Games\, Contests\, Prizes and Silent Auction!</span></h3>\n\n<h3 data-fontsize="24" data-lineheight="30" style="box-sizing: border-box\; margin-top: 1em\; margin-bottom: 1em\; font-family: Questrial\, Arial\, Helvetica\, sans-serif\; font-weight: 400\; line-height: 1.25\; font-size: 24px\; color: rgb(23\, 23\, 23)\; background-color: rgb(255\, 255\, 255)\;"><span style="box-sizing: border-box\; font-weight: 700\;">Non-Golfing Guest Welcome</span></h3>\n<br />\n&nbsp\;
LOCATION:Majestic Oaks Golf Course 701 Bunker Lake Blvd NE am Lake\, MN 55304
UID:e.380.184865
SEQUENCE:3
DTSTAMP:20260420T182614Z
URL:http://members.metronorthchamber.org/events/details/impact-services-5th-annual-9-hole-golf-tournament-184865
END:VEVENT

END:VCALENDAR
