BEGIN:VCALENDAR
VERSION:2.0
PRODID:-//ChamberMaster//Event Calendar 2.0//EN
METHOD:PUBLISH
X-PUBLISHED-TTL:P3D
REFRESH-INTERVAL:P3D
CALSCALE:GREGORIAN
BEGIN:VEVENT
DTSTART:20140726T140000Z
DTEND:20140726T170000Z
X-MICROSOFT-CDO-ALLDAYEVENT:FALSE
SUMMARY:Igniting YOUR Dream
DESCRIPTION:Dream Building\n\nWith Kim Laine\n\n \n\nJuly 29\, 2014 9:00 am to Noon\n\nLake Harriet Spiritual Community\n\n4401 Upton Ave S\n\nMinneapolis\, MN \n\n \n\nRegistration $45 \n\n \n\nIf you would LOVE to have a clear picture of the life you would love to live\, then this workshop is perfect for you.  I will help you define and design your dream and learn how to make it your life.   \n\n \n\nTo Reigster call or email:\n\nKim Laine\n\nDream Builder WHOLE Life Coach and Transformational Speaker\n\n763-350-7551\n\nkimlainedbc@gmail.com\n\nkimlaine.lifemasteryinstitute.com
X-ALT-DESC;FMTTYPE=text/html:<div style="text-align: center\;"><span style="font-size:16px\;"><strong>Dream Building<br />\nWith Kim Laine</strong></span></div>\n\n<div style="text-align: center\;">&nbsp\;</div>\n\n<div style="text-align: center\;">July 29\, 2014 9:00 am to Noon</div>\n\n<div style="text-align: center\;">Lake Harriet Spiritual Community</div>\n\n<div style="text-align: center\;">4401 Upton Ave S</div>\n\n<div style="text-align: center\;">Minneapolis\, MN&nbsp\;<br />\n&nbsp\;</div>\n\n<div style="text-align: center\;">Registration $45<span class="Apple-tab-span" style="white-space:pre"> </span><br />\n&nbsp\;</div>\n\n<div style="text-align: center\;">If you would LOVE to have a clear picture of the life you would love to live\, then this workshop is perfect for you. &nbsp\;I will help you define and design your dream and learn how to make it your life. &nbsp\;&nbsp\;</div>\n\n<div style="text-align: center\;">&nbsp\;</div>\n\n<div style="text-align: center\;">To Reigster call or email:</div>\n\n<div style="text-align: center\;">Kim Laine</div>\n\n<div style="text-align: center\;">Dream Builder WHOLE Life Coach and Transformational Speaker</div>\n\n<div style="text-align: center\;">763-350-7551</div>\n\n<div style="text-align: center\;">kimlainedbc@gmail.com</div>\n\n<div style="text-align: center\;">kimlaine.lifemasteryinstitute.com</div>\n\n<div>&nbsp\;</div>\n
LOCATION:Lake Harriet Spiritual Community 4401 Upton Ave S Minneapolis\, MN
UID:e.380.151405
SEQUENCE:3
DTSTAMP:20260423T234615Z
URL:http://members.metronorthchamber.org/events/details/igniting-your-dream-07-26-2014-151405
END:VEVENT

END:VCALENDAR
