BEGIN:VCALENDAR
VERSION:2.0
PRODID:-//ChamberMaster//Event Calendar 2.0//EN
METHOD:PUBLISH
X-PUBLISHED-TTL:P3D
REFRESH-INTERVAL:P3D
CALSCALE:GREGORIAN
BEGIN:VEVENT
DTSTART:20120516T123000Z
DTEND:20120516T140000Z
X-MICROSOFT-CDO-ALLDAYEVENT:FALSE
SUMMARY:If You Don't Take Care of Your Customers Someone Else Will!
DESCRIPTION:If You Don't Take Care of Your Customers Someone Else Will!\n\nA seminar presented by Anoka Technical College\, Anoka Ramsey Community College\, Anoka Area\, Elk River and MetroNorth Chambers of Commerce\n\n \n\nIt's time to get back to basics in business and focus on our customers and clients to win the future!  \n\n \n\nJoin us as Anoka Area\, Elk River Area and MetroNorth Chambers of Commerce partner with Anoka Technical and Anoka-Ramsey Community College to offer this back to basics customer-focused training. \n\n \n\nDuring this 90 minute session you will learn:\n\n  How buying behaviors of satisfied and dissatisfied customers can impact your business\;\n\n  Techniques you can implement to increase customer loyalty\; and\n\n  The "make it or break it" principle can pave the way to success for your business growth goals.  \n\n \n\nOur presenter Jeri Meola\, founder and CEO\, of Satisfaction Management Systems (SMS) with over 23 years of experience in market research will provide us valuable case studies on what organizations have done to retain their customers. Jeri's presentation on customer satisfaction is high energy\, discussion based and relevant!  Bring your network partners and teams.   \n\n \n\nJoin us for a light breakfast\, presentation and networking event. During this event you will learn\, be inspired and network with others working to build their businesses! \n\n \n\nEvent Details\n\nWednesday\, May 16\, 2012\n\n7:30 - 7:45 a.m. light breakfast & refreshments\n\n7:45 - 9:00 a.m. seminar & networking\n\n \n\nLocation\n\nAnoka Technical College\n\n1355 West Highway 10\n\nAnoka\, MN  55303\n\nAuditorium\n\n \n\nCost\n\n$15 - Non Chamber of Commerce Members\n\n$10 - For Chamber of Commerce Members in participating Chambers\n\n \n\nR.S.V.P by Friday\, May 11\, 2012.
X-ALT-DESC;FMTTYPE=text/html:<br />\n<span style="font-size:11px\;"><span style="font-family: tahoma\;"><span style="font-size:14px\;"><strong><span style="color: rgb(0\, 38\, 106)\;">If You Don&rsquo\;t Take Care of Your Customers Someone Else Will!</span></strong></span><br />\n<span style="color: black\;">A seminar presented by Anoka Technical College\, Anoka Ramsey Community College\, </span><span style="color: black\;">Anoka Area\, Elk River and MetroNorth Chambers of Commerce</span><br />\n&nbsp\;<br />\n<span style="font-size:12px\;"><strong><span style="color: rgb(212\, 162\, 0)\;">It&rsquo\;s time to get back to basics in business and focus on our customers and clients to win the future!&nbsp\; </span></strong></span><br />\n&nbsp\;<br />\n<span style="color: black\;">Join us as Anoka Area\, Elk River Area and MetroNorth Chambers of Commerce partner with Anoka Technical and Anoka-Ramsey Community College to offer this back to basics customer-focused training. </span><br />\n&nbsp\;<br />\n<span style="color: black\;">During this 90 minute session you will learn:</span><br />\n<span style="color: black\;">&middot\;</span>&nbsp\;<span style="color: black\;">How buying behaviors of satisfied and dissatisfied customers can impact your business\;</span><br />\n<span style="color: black\;">&middot\;</span>&nbsp\;<span style="color: black\;">Techniques you can implement to increase customer loyalty\; and</span><br />\n<span style="color: black\;">&middot\;</span>&nbsp\;<span style="color: black\;">The &ldquo\;make it or break it&rdquo\; principle can pave the way to success for your business growth goals.&nbsp\; </span><br />\n&nbsp\;<br />\n<span style="color: black\;">Our presenter Jeri Meola\, founder and CEO\, of Satisfaction Management Systems (SMS) with over 23 years of experience in market research will provide us valuable case studies on what organizations have done to retain their customers. Jeri&rsquo\;s presentation on customer satisfaction is high energy\, discussion based and relevant!&nbsp\; Bring your network partners and teams.&nbsp\;&nbsp\; </span><br />\n&nbsp\;<br />\n<span style="color: black\;">Join us for a light breakfast\, presentation and networking event. During this event you will learn\, be inspired and network with others working to build their businesses! </span><br />\n&nbsp\;<br />\n<strong><span style="color: green\;">Event Details</span></strong><br />\n<strong><span style="color: black\;">Wednesday\, May 16\, 2012</span></strong><br />\n<strong><span style="color: black\;">7:30 - 7:45 a.m. light breakfast &amp\; refreshments</span></strong><br />\n<strong><span style="color: black\;">7:45 - 9:00 a.m. seminar &amp\; networking</span></strong><br />\n&nbsp\;<br />\n<strong><span style="color: rgb(0\, 38\, 106)\;">Location</span></strong><br />\n<strong><span style="color: black\;">Anoka Technical College</span></strong><br />\n<strong><span style="color: black\;">1355 West Highway 10</span></strong><br />\n<strong><span style="color: black\;">Anoka\, MN&nbsp\; 55303</span></strong><br />\n<strong><span style="color: black\;">Auditorium</span></strong><br />\n&nbsp\;<br />\n<strong><span style="color: rgb(88\, 30\, 75)\;">Cost</span></strong><br />\n<strong><span style="color: black\;">$15 - Non Chamber of Commerce Members</span></strong><br />\n<strong><span style="color: black\;">$10 - For Chamber of Commerce Members in participating Chambers</span></strong><br />\n&nbsp\;<br />\n<strong><span style="color: black\;">R.S.V.P by Friday\, May 11\, 2012.</span></strong></span></span>
LOCATION:Anoka Technical College 1355 West Highway 10 Anoka\, MN 55303 Auditorium
UID:e.380.143789
SEQUENCE:3
DTSTAMP:20260425T181334Z
URL:http://members.metronorthchamber.org/events/details/if-you-don-t-take-care-of-your-customers-someone-else-will-05-16-2012-143789
END:VEVENT

END:VCALENDAR
