BEGIN:VCALENDAR
VERSION:2.0
PRODID:-//ChamberMaster//Event Calendar 2.0//EN
METHOD:PUBLISH
X-PUBLISHED-TTL:P3D
REFRESH-INTERVAL:P3D
CALSCALE:GREGORIAN
BEGIN:VEVENT
DTSTART:20190321T230000Z
DTEND:20190322T003000Z
X-MICROSOFT-CDO-ALLDAYEVENT:FALSE
SUMMARY:Identity Theft & Fraud Protection
DESCRIPTION:JD Harris\, COE of Ascent Solution:\n\nConsulting in Cybersecurity
X-ALT-DESC;FMTTYPE=text/html:JD Harris\, COE of Ascent Solution:<br />\nConsulting in Cybersecurity
LOCATION:Edward Jones - Nate Klauser 2197 Silver Lake Rd NW New Brighton\, MN 55112
UID:e.380.188452
SEQUENCE:3
DTSTAMP:20260420T074100Z
URL:http://members.metronorthchamber.org/events/details/identity-theft-fraud-protection-188452
END:VEVENT

END:VCALENDAR
