BEGIN:VCALENDAR
VERSION:2.0
PRODID:-//ChamberMaster//Event Calendar 2.0//EN
METHOD:PUBLISH
X-PUBLISHED-TTL:P3D
REFRESH-INTERVAL:P3D
CALSCALE:GREGORIAN
BEGIN:VEVENT
DTSTART:20170620T220000Z
DTEND:20170621T000000Z
X-MICROSOFT-CDO-ALLDAYEVENT:FALSE
SUMMARY:Ice Cream Social
DESCRIPTION:Ice Cream Social sponsored by Primrose School of The Lakes at Blaine and The Lakes Life
X-ALT-DESC;FMTTYPE=text/html:Ice Cream Social sponsored by Primrose School of The Lakes at Blaine and The Lakes Life
LOCATION:Primrose School of The Lakes 2303 124th Court NE Blaine\, MN 55449
UID:e.380.175279
SEQUENCE:3
DTSTAMP:20260421T135132Z
URL:http://members.metronorthchamber.org/events/details/ice-cream-social-175279
END:VEVENT

END:VCALENDAR
