BEGIN:VCALENDAR
VERSION:2.0
PRODID:-//ChamberMaster//Event Calendar 2.0//EN
METHOD:PUBLISH
X-PUBLISHED-TTL:P3D
REFRESH-INTERVAL:P3D
CALSCALE:GREGORIAN
BEGIN:VEVENT
DTSTART:20140521T213000Z
DTEND:20140521T233000Z
X-MICROSOFT-CDO-ALLDAYEVENT:FALSE
SUMMARY:Hwy 65 Fridley/Spring Lake Park Project Open House
DESCRIPTION:MnDOT Open House for the general public regarding the Hwy 65 Fridley/Spring Lake Park project.
X-ALT-DESC;FMTTYPE=text/html:MnDOT Open House for the general public regarding the Hwy 65 Fridley/Spring Lake Park project.
LOCATION:Fridley Community Center 6085 7th St NE
UID:e.380.151105
SEQUENCE:3
DTSTAMP:20260424T044442Z
URL:http://members.metronorthchamber.org/events/details/hwy-65-fridley-spring-lake-park-project-open-house-05-21-2014-151105
END:VEVENT

END:VCALENDAR
