BEGIN:VCALENDAR
VERSION:2.0
PRODID:-//ChamberMaster//Event Calendar 2.0//EN
METHOD:PUBLISH
X-PUBLISHED-TTL:P3D
REFRESH-INTERVAL:P3D
CALSCALE:GREGORIAN
BEGIN:VEVENT
DTSTART:20140612T130000Z
DTEND:20140612T140000Z
X-MICROSOFT-CDO-ALLDAYEVENT:FALSE
SUMMARY:Hwy 10 Presentation
DESCRIPTION:A presentation from Scott McBride\, MnDOT\, will be given regarding Hwy 10 from Coon Rapids to Ramsey.
X-ALT-DESC;FMTTYPE=text/html:A presentation from Scott McBride\, MnDOT\, will be given regarding Hwy 10 from Coon Rapids to Ramsey.
LOCATION:Fountains of Ramsey
UID:e.380.151375
SEQUENCE:3
DTSTAMP:20260424T012443Z
URL:http://members.metronorthchamber.org/events/details/hwy-10-presentation-06-12-2014-151375
END:VEVENT

END:VCALENDAR
