BEGIN:VCALENDAR
VERSION:2.0
PRODID:-//ChamberMaster//Event Calendar 2.0//EN
METHOD:PUBLISH
X-PUBLISHED-TTL:P3D
REFRESH-INTERVAL:P3D
CALSCALE:GREGORIAN
BEGIN:VEVENT
DTSTART:20151118T003000Z
DTEND:20151118T020000Z
X-MICROSOFT-CDO-ALLDAYEVENT:FALSE
SUMMARY:Hurtigruten Travel Event
DESCRIPTION:Join us for an exclusive Hurtigruten Event!\n\n\n\nLearn from a Hurtigruten representative about the amazing and unique itineraries andexperiences offered year round in the Arctic\, Antarctic and Norway.This one hour presentation will entertain and inform you about the many possibilities oftravel with Hurtigruten. Hurtigruten is for those who appreciate unique\, natural\, and active experiences over luxury and extravagance. Each departure is a purposeful voyage ofexploration providing travelers an unrivaled blend of local encounters and spectacular scenery.\n\n\n\nWhy Hurtigruten?\n\n  Explore your Nordic heritage\n\n  Cruise through the scenic Norwegian Fjords\n\n  View the Northern Lights\n\n  Admire the polar bears in their arctic habitat\n\n  Step foot on the Antarctic ice shelf\n\n\n\nRefreshments will be provided\, along with exclusive event savings and giveaways.
X-ALT-DESC;FMTTYPE=text/html:<strong><span style="color:rgb(20\, 24\, 35)\; font-family:helvetica\,arial\,sans-serif\; font-size:14px">Join us for an exclusive Hurtigruten Event!</span></strong><br />\n<br />\n<span style="color:rgb(20\, 24\, 35)\; font-family:helvetica\,arial\,sans-serif\; font-size:14px">Learn from a Hurtigruten representative about the amazing and unique itineraries andexperiences offered year round in the Arctic\, Antarctic and Norway.This one hour presentation will entertain and inform you about the many possibilities oftravel with Hurtigruten. Hurtigruten is for those who appreciate unique\, natural\, and active experiences over luxury and extravagance. Each departure is a purposeful voyage ofexploration providing travelers an unrivaled blend of local encounters and spectacular scenery.</span><br />\n<br />\n<strong><span style="color:rgb(20\, 24\, 35)\; font-family:helvetica\,arial\,sans-serif\; font-size:14px">Why Hurtigruten?</span></strong><br />\n<span style="color:rgb(20\, 24\, 35)\; font-family:helvetica\,arial\,sans-serif\; font-size:14px">&bull\; Explore your Nordic heritage</span><br />\n<span style="color:rgb(20\, 24\, 35)\; font-family:helvetica\,arial\,sans-serif\; font-size:14px">&bull\; Cruise through the scenic Norwegian Fjords</span><br />\n<span style="color:rgb(20\, 24\, 35)\; font-family:helvetica\,arial\,sans-serif\; font-size:14px">&bull\; View the Northern Lights</span><br />\n<span style="color:rgb(20\, 24\, 35)\; font-family:helvetica\,arial\,sans-serif\; font-size:14px">&bull\; Admire the polar bears in their arctic habitat</span><br />\n<span style="color:rgb(20\, 24\, 35)\; font-family:helvetica\,arial\,sans-serif\; font-size:14px">&bull\; Step foot on the Antarctic ice shelf</span><br />\n<br />\n<strong><span style="color:rgb(20\, 24\, 35)\; font-family:helvetica\,arial\,sans-serif\; font-size:14px">Refreshments will be provided\, along with exclusive event savings and giveaways.</span></strong>
LOCATION:Maple Grove Community Center - 12951 Weaver Lake Rd\, Maple Grove\, Minnesota 55369
UID:e.380.159786
SEQUENCE:3
DTSTAMP:20260422T221813Z
URL:http://members.metronorthchamber.org/events/details/hurtigruten-travel-event-11-17-2015-159786
END:VEVENT

END:VCALENDAR
