BEGIN:VCALENDAR
VERSION:2.0
PRODID:-//ChamberMaster//Event Calendar 2.0//EN
METHOD:PUBLISH
X-PUBLISHED-TTL:P3D
REFRESH-INTERVAL:P3D
CALSCALE:GREGORIAN
BEGIN:VEVENT
DTSTART:20151114T160000Z
DTEND:20151114T210000Z
X-MICROSOFT-CDO-ALLDAYEVENT:FALSE
SUMMARY:Hunter's Widow " Women's Expo" - Saturday\, November 14th
DESCRIPTION:Hunter's Widow   Women's Expo - Saturday\, November 14th\n\n \n\n10am to 3pm\n\nBrookhall\n\n(Next to Blainbrook bowling)\n\n11930 Central Avenue NE\n\nBlaine MN 55434\n\n\n\nFREE Admission!!\n\n\n\n\n\nFirst 100 guest get a Swag bag (18+)\n\n \n\nFree Chair Massages\n\n \n\n40+ Vendors\n\n(Jewelry\, Chocolate\, Lotions\, Jeans\, Candles\, Make-up\, Purses\, Health & Fitness\, and much more!)\n\n \n\nFree Raffle every 30 minutes!\n\n(Must be 18+ and present to win)\n\n\n\nComplete a "Passport" by visiting multiple vendors and get a free gift! Must be 18+\n\n \n\n\n\nMore information and list of all vendors on our website: www.ATOCEventPlanning.com\n\n \n\nBe sure to "like us" on Facebook too:\n\nwww.Facebook.com/ATOCEventPlanning
X-ALT-DESC;FMTTYPE=text/html:<strong><span style="color:#FFC000"><span style="font-family:times new roman\,serif"><span style="font-size:28.0pt">Hunter&rsquo\;s Widow &ndash\; Women&#39\;s Expo -</span></span></span></strong><strong><span style="color:blue"><span style="font-family:times new roman\,serif"><span style="font-size:28.0pt"> Saturday\, November 14<sup>th</sup></span></span></span></strong><br />\n&nbsp\;<br />\n<strong><span style="font-family:times new roman\,serif"><span style="font-size:16.0pt">10am to 3pm</span></span></strong><br />\n<strong><span style="font-family:times new roman\,serif"><span style="font-size:16.0pt">Brookhall</span></span></strong><br />\n<strong><span style="font-family:times new roman\,serif"><span style="font-size:16.0pt">(Next to Blainbrook bowling)</span></span></strong><br />\n<strong><span style="font-size:14.0pt">11930 Central Avenue NE<br />\nBlaine MN 55434</span></strong><br />\n<br />\n<strong><span style="color:#7030A0"><span style="font-family:times new roman\,serif"><span style="font-size:16.0pt">FREE Admission!!</span></span></span></strong><br />\n<br />\n<br />\n<strong><span style="color:#548DD4"><span style="font-family:times new roman\,serif"><span style="font-size:12.0pt">First 100 guest get a Swag bag (18+)</span></span></span></strong><br />\n&nbsp\;<br />\n<span style="font-family:times new roman\,serif"><span style="font-size:12.0pt">Free Chair Massages</span></span><br />\n&nbsp\;<br />\n<strong><span style="color:#C20EA0"><span style="font-family:times new roman\,serif"><span style="font-size:14.0pt">40+ Vendors</span></span></span></strong><br />\n<strong><span style="color:#C20EA0"><span style="font-family:times new roman\,serif"><span style="font-size:12.0pt">(Jewelry\, Chocolate\, Lotions\, Jeans\, Candles\, Make-up\, Purses\, Health &amp\; Fitness\, and much more!)</span></span></span></strong><br />\n&nbsp\;<br />\n<strong><span style="color:#92D050"><span style="font-family:times new roman\,serif"><span style="font-size:16.0pt">Free Raffle every 30 minutes!</span></span></span></strong><br />\n<span style="font-family:times new roman\,serif"><span style="font-size:16.0pt">(</span></span><span style="font-family:times new roman\,serif"><span style="font-size:12.0pt">Must be 18+ and present to win)</span></span><br />\n<br />\n<span style="font-family:times new roman\,serif"><span style="font-size:12.0pt">Complete a &ldquo\;Passport&rdquo\; by visiting multiple vendors and get a free gift! Must be 18+</span></span><br />\n&nbsp\;<br />\n<br />\n<strong><span style="font-family:times new roman\,serif"><span style="font-size:18.0pt">More information and list of all vendors on our website: </span></span></strong><a href="http://www.atoceventplanning.com/"><strong><span style="font-family:times new roman\,serif"><span style="font-size:18.0pt">www.ATOCEventPlanning.com</span></span></strong></a><br />\n&nbsp\;<br />\n<strong><span style="font-family:times new roman\,serif"><span style="font-size:18.0pt">Be sure to &ldquo\;like us&rdquo\; on Facebook too:</span></span></strong><br />\n<a href="http://www.facebook.com/ATOCEventPlanning"><strong><span style="font-family:times new roman\,serif"><span style="font-size:18.0pt">www.Facebook.com/ATOCEventPlanning</span></span></strong></a><br />\n&nbsp\;
LOCATION:Brookhall
UID:e.380.159634
SEQUENCE:3
DTSTAMP:20260422T222000Z
URL:http://members.metronorthchamber.org/events/details/hunter-s-widow-women-s-expo-saturday-november-14th-11-14-2015-159634
END:VEVENT

END:VCALENDAR
