BEGIN:VCALENDAR
VERSION:2.0
PRODID:-//ChamberMaster//Event Calendar 2.0//EN
METHOD:PUBLISH
X-PUBLISHED-TTL:P3D
REFRESH-INTERVAL:P3D
CALSCALE:GREGORIAN
BEGIN:VEVENT
DTSTART:20150925T150000Z
DTEND:20150926T210000Z
X-MICROSOFT-CDO-ALLDAYEVENT:FALSE
SUMMARY:Huge Sales Event
DESCRIPTION:We are celebrating our newly remodeled showroom!!!  Huge savings on Regency fireplaces\, inserts and stoves with rebates from Regency as well as sale prices from Custom Fireplace and Chimney Care!
X-ALT-DESC;FMTTYPE=text/html:We are celebrating our newly remodeled showroom!!!&nbsp\; Huge savings on Regency fireplaces\, inserts and stoves with rebates from Regency as well as sale prices from Custom Fireplace and Chimney Care!&nbsp\;
LOCATION:Custom Fireplace and Chimney Care 9696 University Ave NE Coon Rapids\, MN 55448
UID:e.380.159608
SEQUENCE:3
DTSTAMP:20260423T025910Z
URL:http://members.metronorthchamber.org/events/details/huge-sales-event-09-25-2015-159608
END:VEVENT

END:VCALENDAR
