BEGIN:VCALENDAR
VERSION:2.0
PRODID:-//ChamberMaster//Event Calendar 2.0//EN
METHOD:PUBLISH
X-PUBLISHED-TTL:P3D
REFRESH-INTERVAL:P3D
CALSCALE:GREGORIAN
BEGIN:VEVENT
DTSTART:20160930T200000Z
DTEND:20160930T230000Z
X-MICROSOFT-CDO-ALLDAYEVENT:FALSE
SUMMARY:Hubmer\, Enstad\, Ovik & Co. Open House!!
DESCRIPTION:Please Join us for an Introductory meet & greet with our team\, old & new. This would be a great opportunity for both you and our team to get to know one another as we enjoy appetizers and beverages together.\n\n\n\nIf you are in need of Accounting/ Tax Services\, feel free to stop by and ask any questions that you may have!\n\n\n\nSee you there!
X-ALT-DESC;FMTTYPE=text/html:<span style="font-size:14px"><strong>Please Join us for an Introductory meet &amp\; greet with our team\, old &amp\; new. This would be a great opportunity for both you and our team to get to know one another as we enjoy appetizers and beverages together.<br />\n<br />\nIf you are in need of Accounting/ Tax Services\, feel free to stop by and ask any questions that you may have!<br />\n<br />\nSee you there!</strong></span>
LOCATION:Our Office in Coon Rapids: 3340 Northdale Blvd. Coon Rapids\, MN 55448
UID:e.380.169327
SEQUENCE:3
DTSTAMP:20260422T052233Z
URL:http://members.metronorthchamber.org/events/details/hubmer-enstad-ovik-co-open-house-169327
END:VEVENT

END:VCALENDAR
