BEGIN:VCALENDAR
VERSION:2.0
PRODID:-//ChamberMaster//Event Calendar 2.0//EN
METHOD:PUBLISH
X-PUBLISHED-TTL:P3D
REFRESH-INTERVAL:P3D
CALSCALE:GREGORIAN
BEGIN:VEVENT
DTSTART:20190715T130000Z
DTEND:20190716T170000Z
X-MICROSOFT-CDO-ALLDAYEVENT:FALSE
SUMMARY:HR Bootcamp
DESCRIPTION:Did you know that small business owners spend more than 10 hours a week on human resources "stuff"? And even if you are delegating to another employee or other managers in your business\, you could still be spending more than $18\,000 a year to have someone else do that "stuff"?\n\n\n\nHow great it would feel to be confident and effective in your human resources "stuff"?  Imagine it.  You posted an open position and found a great new employee (fist bump).  You worked with an employee on poor performance and they turned it around (nailed it!).  You gave difficult feedback to an employee without feeling uncomfortable and without putting it off because it was 'icky' (high five).  You retained a great employee by recognizing and developing them -- and you are the boss they don't want to leave (and......mike drop).  \n\n\n\nThese are issues all managers face.  You can face these issues confidently and effective (like a rock star) by attending an HR Bootcamp.  But you need to take the first step and make the investment for yourself......and your employees.  \n\n\n\nIf you or a member of your team is responsible for HR or managing employees in your small business\, our 1.5-day HR Bootcamp is for you.  \n\n \nREGISTER HERE\n\n\nDuring the 1.5 day HR Bootcamp\, you will be applying these important concepts to your business.  So by the time you leave\, you will have relevant and practical HR processes and resources TAILORED TO YOUR BUSINESS that you can implement immediately.  This includes:\n\n	standard interview questions\,\n	onboarding plans for new employees\,\n	plans for providing effective feedback and managing performance\,\n	action plans to increase employee engagement\, and\n	ideas to recognize employees.  \n\nNow is your chance to gain the confidence and skills to be the kind of manager that employees WANT to work for and DON"T WANT to leave.  \n\n \nREGISTER HERE
X-ALT-DESC;FMTTYPE=text/html:Did you know that small business owners spend more than 10 hours a week on human resources &quot\;stuff&quot\;? And even if you are delegating to another employee or other managers in your business\, you could still be spending more than $18\,000 a year to have someone else do that &quot\;stuff&quot\;?<br />\n<br />\nHow great it would feel to be confident and effective in your human resources &quot\;stuff&quot\;?&nbsp\; Imagine it.&nbsp\; You posted an open position and found a great new employee (fist bump).&nbsp\; You worked with an employee on poor performance and they turned it around (nailed it!).&nbsp\; You gave difficult feedback to an employee without feeling uncomfortable and without putting it off because it was &#39\;icky&#39\; (high five).&nbsp\; You retained a great employee by recognizing and developing them -- and you are the boss they don&#39\;t want to leave (and......mike drop).&nbsp\;&nbsp\;<br />\n<br />\nThese are issues all managers face.&nbsp\; You can face these issues confidently and effective (like a rock star) by attending an HR Bootcamp.&nbsp\; But you need to take the first step and make the investment for yourself......and your employees.&nbsp\;&nbsp\;<br />\n<br />\nIf you or a member of your team is responsible for HR or managing employees in your small business\, our 1.5-day HR Bootcamp is for you.&nbsp\;&nbsp\;<br />\n&nbsp\;\n<div style="text-align: center\;"><span style="font-size:18px"><strong><a href="https://www.eventbrite.com/e/hr-bootcamp-for-business-owners-tickets-57221534149"><span style="color:f2583e">REGISTER HERE</span></a></strong></span></div>\n<br />\nDuring the 1.5 day HR Bootcamp\, you will be applying these important concepts to your business.&nbsp\; So by the time you leave\, you will have relevant and practical HR processes and resources TAILORED TO YOUR BUSINESS that you can implement immediately.&nbsp\; This includes:\n<ul>\n	<li>standard interview questions\,</li>\n	<li>onboarding plans for new employees\,</li>\n	<li>plans for providing effective feedback and managing performance\,</li>\n	<li>action plans to increase employee engagement\, and</li>\n	<li>ideas to recognize employees.&nbsp\;&nbsp\;</li>\n</ul>\nNow is your chance to gain the confidence and skills to be the kind of manager that employees WANT to work for and DON&quot\;T WANT to leave.&nbsp\;&nbsp\;<br />\n&nbsp\;\n<div style="text-align: center\;"><span style="font-size:18px"><strong><a href="https://www.eventbrite.com/e/hr-bootcamp-for-business-owners-tickets-57221534149" style="color: rgb(7\, 130\, 193)\;">REGISTER HERE</a></strong></span></div>\n
LOCATION:Embassy Suites by Hilton Minneapolis Airport 7901 34th Avenue South Bloomington\, MN 55425
UID:e.380.189301
SEQUENCE:3
DTSTAMP:20260419T225042Z
URL:http://members.metronorthchamber.org/events/details/hr-bootcamp-189301
END:VEVENT

END:VCALENDAR
