BEGIN:VCALENDAR
VERSION:2.0
PRODID:-//ChamberMaster//Event Calendar 2.0//EN
METHOD:PUBLISH
X-PUBLISHED-TTL:P3D
REFRESH-INTERVAL:P3D
CALSCALE:GREGORIAN
BEGIN:VEVENT
DTSTART:20120511T144500Z
DTEND:20120511T160000Z
X-MICROSOFT-CDO-ALLDAYEVENT:FALSE
SUMMARY:How To Organize & Manage Your Time
DESCRIPTION:Do you plan for success or are you just hoping it will fall in your lap? \n\n\n\nSuccess happens through planning and preparation and is about more than just your work.  Success is about finding balance in all areas of your life.  This workshop will show you exactly how to make the most out of each day so you can do everything you want to do.   You will experience how to create a schedule that makes it possible to enjoy a well-balanced life without stress.\n\n\n\nThis workshop is FREE and is based on the "How To Organize & Manage Your Time - A One Year Planning and Action Guide" workbook which will be available for purchase but is not required.\n\n\n\nPlease come early to sign in and enjoy some refreshments.  Register online:  http://coachandmentor511.eventbrite.com/
X-ALT-DESC;FMTTYPE=text/html:Do you plan for success or are you just hoping it will fall in your lap?&nbsp\;<br />\n<br />\nSuccess happens through planning and preparation and is about more than just your work.&nbsp\; Success is about finding balance in all areas of your life.&nbsp\; This workshop will show you exactly how to make the most out of each day so you can do everything you want to do.&nbsp\;&nbsp\; You will experience how to create a schedule that makes it possible to enjoy a well-balanced life without stress.<br />\n<br />\nThis workshop is FREE and is based on the &quot\;How To Organize &amp\; Manage Your Time - A One Year Planning and Action Guide&quot\; workbook which will be available for purchase but is not required.<br />\n<br />\nPlease come early to sign in and enjoy some refreshments.&nbsp\; Register online:&nbsp\; http://coachandmentor511.eventbrite.com/
LOCATION:MetroNorth Chamber Office
UID:e.380.143813
SEQUENCE:3
DTSTAMP:20260425T180944Z
URL:http://members.metronorthchamber.org/events/details/how-to-organize-manage-your-time-05-11-2012-143813
END:VEVENT

END:VCALENDAR
