BEGIN:VCALENDAR
VERSION:2.0
PRODID:-//ChamberMaster//Event Calendar 2.0//EN
METHOD:PUBLISH
X-PUBLISHED-TTL:P3D
REFRESH-INTERVAL:P3D
CALSCALE:GREGORIAN
BEGIN:VEVENT
DTSTART:20120427T170000Z
DTEND:20120427T180000Z
X-MICROSOFT-CDO-ALLDAYEVENT:FALSE
SUMMARY:How To Organize & Manage Your Time
DESCRIPTION:Do you ever wish you had a system for getting everything done? That's what you'll get with "How To Organize & Manage Your Time".\n\n	\n		One Year\n	\n		Weekly\n	\n		Daily Time Management\n\n\n	This workshop is designed to start with an overall view of what you want to achieve in 7 areas of your life   financial\, career\, relationships\, recreation\, health\, personal development\, and service. Once the overall plan is in place it's on to weekly goal setting that will help you achieve your one year plan. The key ingredient is the daily planning. You will learn a technique that guarantees you will make progress towards your goals and have time left over for fun stuff too.\n\n	\n\n	Workbooks will be available for purchase at the session but are not required.
X-ALT-DESC;FMTTYPE=text/html:<p>\n	Do you ever wish you had a system for getting everything done?&nbsp\;That&#39\;s what you&#39\;ll get with&nbsp\;&ldquo\;How To Organize &amp\; Manage Your Time&rdquo\;.</p>\n<ul>\n	<li>\n		One Year</li>\n	<li>\n		Weekly</li>\n	<li>\n		Daily Time Management</li>\n</ul>\n<p>\n	This workshop is designed to start with an overall view of what you want to achieve in 7 areas of your life &ndash\; financial\, career\, relationships\, recreation\, health\, personal development\, and service. Once the overall plan is in place it&rsquo\;s on to weekly goal setting that will help you achieve your one year plan. The key ingredient is the daily planning. You will learn a technique that guarantees you will make progress towards your goals and have time left over for fun stuff too.<br />\n	<br />\n	Workbooks will be available for purchase at the session&nbsp\;but are not required.<br />\n	&nbsp\;</p>\n
LOCATION:MetroNorth Chamber
UID:e.380.143783
SEQUENCE:3
DTSTAMP:20260425T192436Z
URL:http://members.metronorthchamber.org/events/details/how-to-organize-manage-your-time-04-27-2012-143783
END:VEVENT

END:VCALENDAR
