BEGIN:VCALENDAR
VERSION:2.0
PRODID:-//ChamberMaster//Event Calendar 2.0//EN
METHOD:PUBLISH
X-PUBLISHED-TTL:P3D
REFRESH-INTERVAL:P3D
CALSCALE:GREGORIAN
BEGIN:VEVENT
DTSTART:20120412T160000Z
DTEND:20120412T180000Z
X-MICROSOFT-CDO-ALLDAYEVENT:FALSE
SUMMARY:How To Leverage Mobile Technology For Your Business- Lunch and Learn
DESCRIPTION:Join us for a Special Green Mill Networking Lunch & Learn. \n	\n		 \n	\n		Featured Topic and Speaker:\n	\n		"How to Leverage Mobile Technology For Your Business or Organization"\n	\n		- Learn what you need to know about the fast growing marketplace and how it effects your business.\n	\n		- Learn how your company can operate more efficiently using mobile technology.\n\n		- Can my phone really do all that?\n\n		- How do I get it to all work together?\n	\n		 \n	\n		Laura Ooley of Appmosphere- iphone\, Android\, Widows\, and other mobile app developers.\n	\n		 \n	\n		 \n	\n		When: Thursday  April 12th 11:00 AM to 1:00 PM\n	\n		Cost: $10 covers lunch\, drink\, tax and tip.\n	\n		Where: Green Mill Coon Rapids\n	\n		Why: To Network and grow your business of course!\n	\n		About the group:\n	\n		We want to develop a core group of business owners and professionals who attend regularly and we also welcome all newcomers who are just as serious about growing their business\, professional relationships\, and do business with each other.\n	\n		Here is a snapshot of what you will experience:\n	\n		\n			15 to 25 other North Metro professionals and business owners to network with.\n		\n			Feature spotlight on one or two attendees to learn more about their business.\n		\n			A delicious spread of food by Green Mill for only $10.\n		\n			An opportunity to develop strategic partnerships and alliances in the North Metro.\n		\n			Lessons from a "Connector" on effective networking\n	\n	\n		 \n	\n		If Your looking for a new opportunity to network in the North Metro\, this may be the place for you.  Come check it out\, you will be glad you did!\n	\n		 \n	\n		This week's Featured speaker will be:\n	\n		Laura Ooley of Appmosphere Inc.\n	Mobile Application Development - iPod\, iPad\, iPhone\, Android\, Windows.\n	\n		Appmosphere has a unique point of difference when it comes to mobile application development. We are not "just developers"\, we are a group of experts...providing every aspect of application development - from concept development and project managment to app pricing strategy and creative design and marketing services.\n	\n		We develop mobile apps with your business model in mind. Whether it's a free app with in-app purchase options or a paid app development for iPhone/Android/Windows\, we work with you to create the best possible application for you.\n	\n		Discover the benefits of working with Appmosphere to develop your application today:\n	\n		\n			- iPhone/iPod App Development\n		\n			- iPad App Development\n		\n			- Android App Development\n		\n			- BlackBerry App Development\n		\n			- Launching Your App\n		\n			- Other Services
X-ALT-DESC;FMTTYPE=text/html:<div class="line event-stack-display event-stack-display-no-padding" id="event-description-wrap" itemprop="description">\n	<p style="text-align: center">\n		<strong><span style="font-size: large">Join us for a Special Green Mill Networking Lunch &amp\; Learn</span>.&nbsp\;</strong></p>\n	<p style="text-align: center">\n		&nbsp\;</p>\n	<p style="text-align: left">\n		<span style="color: #000080">Featured Topic and Speaker:</span></p>\n	<p style="text-align: left">\n		<strong>&quot\;How to Leverage Mobile Technology For Your Business or Organization&quot\;</strong></p>\n	<p style="text-align: left">\n		- Learn what you need to know about the fast growing marketplace and how it effects your business.</p>\n	<p style="text-align: left">\n		- Learn how your company can operate more efficiently using mobile technology.<br />\n		- Can my phone really do all that?<br />\n		- How do I get it to all work together?</p>\n	<p style="text-align: left">\n		&nbsp\;</p>\n	<p style="text-align: left">\n		<strong>Laura Ooley of Appmosphere</strong>- iphone\, Android\, Widows\, and other mobile app developers.</p>\n	<p style="text-align: left">\n		&nbsp\;</p>\n	<p>\n		&nbsp\;</p>\n	<p style="text-align: left">\n		<strong>When: Thursday&nbsp\; April 12th 11:00 AM to 1:00 PM</strong></p>\n	<p style="text-align: left">\n		<strong>Cost: $10 covers lunch\, drink\, tax and tip.</strong></p>\n	<p style="text-align: left">\n		<strong>Where: Green Mill Coon Rapids</strong></p>\n	<p style="text-align: left">\n		<strong>Why: To Network and grow your business of course!</strong></p>\n	<p style="text-align: left">\n		About the group:</p>\n	<p style="text-align: left">\n		We want to develop a core group of business owners and professionals who attend regularly and we also welcome all newcomers who are just as serious about growing their business\, professional relationships\, and do business with each other.</p>\n	<p style="text-align: left">\n		Here is a snapshot of what you will experience:</p>\n	<ul>\n		<li>\n			15 to 25 other North Metro professionals and business owners to network with.</li>\n		<li>\n			Feature spotlight on one or two attendees to learn more about their business.</li>\n		<li>\n			A delicious spread of food by Green Mill for only $10.</li>\n		<li>\n			An opportunity to develop strategic partnerships and alliances in the North Metro.</li>\n		<li>\n			Lessons from a &quot\;Connector&quot\; on effective networking</li>\n	</ul>\n	<p style="text-align: center">\n		&nbsp\;</p>\n	<p style="text-align: center">\n		<strong>If Your looking for a new opportunity to network in the North Metro\, this may be the place for you.&nbsp\; Come check it out\, you will be glad you did!</strong></p>\n	<p style="text-align: center">\n		&nbsp\;</p>\n	<p style="text-align: center">\n		<strong>This week&#39\;s Featured speaker will be:</strong></p>\n	<p style="text-align: center">\n		<strong>Laura Ooley of Appmosphere Inc.</strong></p>\n	<span style="font-size: small">Mobile Application Development - iPod\, iPad\, iPhone\, Android\, Windows.</span>\n	<p>\n		<span style="color: #000000">Appmosphere has a unique point of difference when it comes to <a>mobile application development.</a> We are not &quot\;just developers&quot\;\, we are a group of experts...providing every aspect of application development - from concept development and project managment to app pricing strategy and creative design and marketing services.</span></p>\n	<p>\n		<span style="color: #000000">We develop mobile apps with your business model in mind. Whether it&#39\;s a free app with in-app purchase options or a paid app development for iPhone/Android/Windows\, we work with you to create the best possible application for you.</span></p>\n	<p>\n		<span style="color: #000000">Discover the benefits of working with Appmosphere to develop your application today:</span></p>\n	<ol>\n		<li>\n			<span style="color: #000000">- <a>iPhone/iPod App Development</a></span></li>\n		<li>\n			<span style="color: #000000">- <a>iPad App Development</a></span></li>\n		<li>\n			<span style="color: #000000">- <a>Android App Development</a></span></li>\n		<li>\n			<span style="color: #000000">- <a>BlackBerry App Development</a></span></li>\n		<li>\n			<span style="color: #000000">- <a>Launching Your App</a></span></li>\n		<li>\n			<span style="color: #000000">- <a>Other Services</a></span></li>\n	</ol>\n</div>\n
LOCATION:Green Mill Coon Rapids
UID:e.380.143792
SEQUENCE:3
DTSTAMP:20260425T192228Z
URL:http://members.metronorthchamber.org/events/details/how-to-leverage-mobile-technology-for-your-business-lunch-and-learn-04-12-2012-143792
END:VEVENT

END:VCALENDAR
