BEGIN:VCALENDAR
VERSION:2.0
PRODID:-//ChamberMaster//Event Calendar 2.0//EN
METHOD:PUBLISH
X-PUBLISHED-TTL:P3D
REFRESH-INTERVAL:P3D
CALSCALE:GREGORIAN
BEGIN:VEVENT
DTSTART:20120814T163000Z
DTEND:20120814T173000Z
X-MICROSOFT-CDO-ALLDAYEVENT:FALSE
SUMMARY:"How to Fire a Difficult Customer" Continued... WWW Lunch and Learn
DESCRIPTION:Working With Women Lunch and Learn\n\n		"How to Fire a Difficult Customer" Continued...  \n	\n		Keynote Speaker Kimberly Nybo of State Farm Insurance    \n	\n		   \n	\n		Join us on Tuesday\, August 14th for our next Working With Women Lunch and Learn! This will be a more detailed discussion on how to fire a difficult customer. You will find that there is no true system but there are triggers that will help to determine your decision and follow-thru on firing a client.\n	\n		 \n	\n		Our keynote speaker\, Kimberly Nybo\, has been a State Farm agent for over 20 years and has helped break the glass ceiling of the industry by being a female Agent (owner) in business when there were very few female Agents. She is a force to be reckoned with and has an amazing sense of business. \n	\n		 \n	\n		Tuesday\, August 14\, 11:30 am\n	\n		Rasmussen College\, Blaine\n	\n		pre-pay $10 - includes lunch\n	\n		RSVP required
X-ALT-DESC;FMTTYPE=text/html:<div align="left" style="TEXT-ALIGN: left">\n	<div style="font-size: 12pt\;">\n		<span style="font-size:11px\;"><span style="color: rgb(0\, 0\, 128)\;"><span style="font-family: tahoma\;"><strong>Working With Women Lunch and Learn<br />\n		&quot\;How to Fire a Difficult Customer&quot\; Continued... &nbsp\;</strong></span></span></span></div>\n	<p style="margin-top: 0px\; margin-bottom: 0px\;">\n		<span style="font-size:11px\;"><span style="color: rgb(0\, 0\, 128)\;"><span style="font-family: tahoma\;">Keynote Speaker&nbsp\;Kimberly Nybo of State Farm Insurance&nbsp\; &nbsp\;&nbsp\;</span></span></span></p>\n	<p style="margin-top: 0px\; margin-bottom: 0px\;">\n		<span style="font-size:11px\;"><span style="color: rgb(0\, 0\, 128)\;"><span style="font-family: tahoma\;"><span>&nbsp\;</span>&nbsp\;&nbsp\;</span></span></span></p>\n	<p style="margin-top: 0px\; margin-bottom: 0px\;">\n		<span style="font-size:11px\;"><span style="color: rgb(0\, 0\, 128)\;"><span style="font-family: tahoma\;"><span>Join us on Tuesday\, August 14th for our next Working With Women Lunch and Learn! This will be a more detailed discussion on how to fire a difficult customer. You will find that there is no true system but there are triggers that will help to determine your decision and follow-thru on firing a client.</span></span></span></span></p>\n	<p style="margin-top: 0px\; margin-bottom: 0px\;">\n		<span style="font-size:11px\;"><span style="color: rgb(0\, 0\, 128)\;"><span style="font-family: tahoma\;"><span>&nbsp\;</span></span></span></span></p>\n	<p style="margin-top: 0px\; margin-bottom: 0px\;">\n		<span style="font-size:11px\;"><span style="color: rgb(0\, 0\, 128)\;"><span style="font-family: tahoma\;"><span><span>Our keynote speaker\, K</span>im<span>berly Nybo\, has been a State Farm agent for over 20 years and has helped break the glass ceiling of the industry by being a female Agent (owner) in business when there were very few female Agents. She is a force to be reckoned with and has an amazing sense of business.</span>&nbsp\;</span></span></span></span></p>\n	<p style="margin-top: 0px\; margin-bottom: 0px\;">\n		&nbsp\;</p>\n	<p style="margin-top: 0px\; margin-bottom: 0px\;">\n		<span style="font-size:11px\;"><span style="color: rgb(0\, 0\, 128)\;"><span style="font-family: tahoma\;"><span>Tuesday\, August 14\, 11:30 am</span></span></span></span></p>\n	<p style="margin-top: 0px\; margin-bottom: 0px\;">\n		<span style="font-size:11px\;"><span style="color: rgb(0\, 0\, 128)\;"><span style="font-family: tahoma\;"><span>Rasmussen College\, Blaine</span></span></span></span></p>\n	<p style="margin-top: 0px\; margin-bottom: 0px\;">\n		<span style="font-size:11px\;"><span style="color: rgb(0\, 0\, 128)\;"><span style="font-family: tahoma\;"><span>pre-pay $10 - includes lunch</span></span></span></span></p>\n	<p style="margin-top: 0px\; margin-bottom: 0px\;">\n		<span style="font-size:11px\;"><span style="font-family: tahoma\;"><span><a href="mailto:stephanie@metronorthchamber.org" shape="rect" style="COLOR: rgb(0\,0\,255)\; TEXT-DECORATION: underline" target="_blank" title="mailto:stephanie@metronorthchamber.org"><span style="color:#0000cd\;">RSVP</span></a></span><span><span style="color: rgb(0\, 0\, 128)\;"> required </span></span></span></span></p>\n</div>\n
LOCATION:Rasmussen College\, Blaine 3629 95th Ave. NE Blaine\, MN 55014
UID:e.380.146172
SEQUENCE:3
DTSTAMP:20260425T125047Z
URL:http://members.metronorthchamber.org/events/details/how-to-fire-a-difficult-customer-continued-www-lunch-and-learn-08-14-2012-146172
END:VEVENT

END:VCALENDAR
