BEGIN:VCALENDAR
VERSION:2.0
PRODID:-//ChamberMaster//Event Calendar 2.0//EN
METHOD:PUBLISH
X-PUBLISHED-TTL:P3D
REFRESH-INTERVAL:P3D
CALSCALE:GREGORIAN
BEGIN:VEVENT
DTSTART:20150730T211500Z
DTEND:20150730T214500Z
X-MICROSOFT-CDO-ALLDAYEVENT:FALSE
SUMMARY:House 2 Home Flooring & Design Studio Ribbon Cutting
DESCRIPTION:House 2 Home Flooring & Design Studio will be holding a Ribbon Cutting to celebrate their new membership with the MetroNorth Chamber. They will be providing lunch along with other refreshments.
X-ALT-DESC;FMTTYPE=text/html:House 2 Home Flooring &amp\; Design Studio will be holding a Ribbon Cutting to celebrate their new membership with the MetroNorth Chamber. They will be providing lunch along with other refreshments.&nbsp\;&nbsp\;
LOCATION:House 2 Home Flooring & Design Studio 13838 Aberdeen Street NE Ham Lake\, MN 55304
UID:e.380.157821
SEQUENCE:3
DTSTAMP:20260423T054501Z
URL:http://members.metronorthchamber.org/events/details/house-2-home-flooring-design-studio-ribbon-cutting-07-30-2015-157821
END:VEVENT

END:VCALENDAR
