BEGIN:VCALENDAR
VERSION:2.0
PRODID:-//ChamberMaster//Event Calendar 2.0//EN
METHOD:PUBLISH
X-PUBLISHED-TTL:P3D
REFRESH-INTERVAL:P3D
CALSCALE:GREGORIAN
BEGIN:VEVENT
DTSTART:20170921T230000Z
DTEND:20170922T010000Z
X-MICROSOFT-CDO-ALLDAYEVENT:FALSE
SUMMARY:Hotdish for Homelessness
DESCRIPTION:An event to support Family Promise in Anoka County\n\nFeaturing Garrison Keillor\n\n\n\nJoin us for a catered potluck-themed meal and entertainment by Garrison Keillor as we celebrate the community that makes Family Promise possible.
X-ALT-DESC;FMTTYPE=text/html:An event to support Family Promise in Anoka County<br />\nFeaturing Garrison Keillor<br />\n<br />\nJoin us for a catered potluck-themed meal and entertainment by Garrison Keillor as we celebrate the community that makes Family Promise possible.
LOCATION:Lord of Life Church 14501 Nowthen Blvd NW Ramsey\, MN 55303
UID:e.380.176745
SEQUENCE:3
DTSTAMP:20260421T110631Z
URL:http://members.metronorthchamber.org/events/details/hotdish-for-homelessness-176745
END:VEVENT

END:VCALENDAR
