BEGIN:VCALENDAR
VERSION:2.0
PRODID:-//ChamberMaster//Event Calendar 2.0//EN
METHOD:PUBLISH
X-PUBLISHED-TTL:P3D
REFRESH-INTERVAL:P3D
CALSCALE:GREGORIAN
BEGIN:VEVENT
DTSTART:20191002T214500Z
DTEND:20191002T224500Z
X-MICROSOFT-CDO-ALLDAYEVENT:FALSE
SUMMARY:Hops & Vines Committee
DESCRIPTION:Like to drink wine and attend tastings? Our Hops & Vines Club likes to DRINK WINE\, HAVE FUN and MEET PEOPLE.
X-ALT-DESC;FMTTYPE=text/html:Like to drink wine and attend tastings? Our Hops &amp\; Vines Club likes to DRINK WINE\, HAVE FUN and MEET PEOPLE.
LOCATION:Sticks and Stones\, Blaine
UID:e.380.190135
SEQUENCE:3
DTSTAMP:20260419T180452Z
URL:http://members.metronorthchamber.org/events/details/hops-vines-committee-meeting-10-02-2019-190135
END:VEVENT

END:VCALENDAR
