BEGIN:VCALENDAR
VERSION:2.0
PRODID:-//ChamberMaster//Event Calendar 2.0//EN
METHOD:PUBLISH
X-PUBLISHED-TTL:P3D
REFRESH-INTERVAL:P3D
CALSCALE:GREGORIAN
BEGIN:VEVENT
DTSTART:20190928T140000Z
DTEND:20190928T190000Z
X-MICROSOFT-CDO-ALLDAYEVENT:FALSE
SUMMARY:HopeFest
DESCRIPTION:Alexandra House hosts its annual HopeFest event in the fall\, as our lead into October\, which is Domestic Violence Awareness Month. The core principles of the event are to raise awareness about domestic and sexual violence\, remember those we have lost\, and honor the many survivors. The event includes a brief program\, a 2-mile walk\, Kidz Dash and Kidz Zone with inflatables and games\, BBQ from The Bones Brothers\, and a vendor/exhibitor resource fair. This family-friendly event grows larger every year as more and more people recognize the impact of domestic and sexual violence and make a commitment to help end it.\n\n \nDate: Saturday\, September 28\, 2019\n\nTime: 9:00 am   2:00 pm\n\nLocation: YMCA Lino Lakes\, 7690 Village Dr\, Lino Lakes\, MN 55014\n\n \n\nPURCHASE YOUR EVENT ADMISSION:\n\nEarly Bird (by 8/31/19) Paid admission includes a HopeFest wristband for games and activities\, meal ticket\, option to participate in the 2-mile Walk and/or Kidz Dash (Ages 3-10)\, and a HopeFest t-shirt.\n\n\n	Students/Adults (14+)   $30\n	Youth (Ages 3-13)   $10
X-ALT-DESC;FMTTYPE=text/html:<span style="color:rgb(99\, 87\, 78)\; font-family:proxima nova\; font-size:17px">Alexandra House hosts its annual HopeFest event in the fall\, as our lead into October\, which is Domestic Violence Awareness Month. The core principles of the event are to raise awareness about domestic and sexual violence\, remember those we have lost\, and honor the many survivors. The event includes a brief program\, a 2-mile walk\, Kidz Dash and Kidz Zone with inflatables and games\, BBQ from The Bones Brothers\, and a vendor/exhibitor resource fair. This family-friendly event grows larger every year as more and more people recognize the impact of domestic and sexual violence and make a commitment to help end it.</span><br />\n&nbsp\;\n<p><strong>Date:</strong>&nbsp\;Saturday\, September 28\, 2019<br />\n<strong>Time:</strong>&nbsp\;9:00 am &ndash\; 2:00 pm<br />\n<strong>Location:&nbsp\;</strong><a href="https://www.ymcamn.org/locations/lino_lakes_ymca?utm_source=google&amp\;utm_medium=local&amp\;utm_campaign=local%20search" style="box-sizing: border-box\; background: transparent\; color: rgb(249\, 154\, 57)\; text-decoration-line: none\; transition: all 0.2s ease-in-out 0s\;">YMCA Lino Lakes</a>\,&nbsp\;<span style="color:rgb(34\, 34\, 34)\; font-family:roboto\,arial\,sans-serif\; font-size:small">7690 Village Dr\, Lino Lakes\, MN 55014</span></p>\n\n<h3>&nbsp\;</h3>\n\n<h3>PURCHASE YOUR EVENT ADMISSION:</h3>\n\n<p><strong>Early Bird (by 8/31/19)&nbsp\;</strong>Paid admission includes a HopeFest wristband for games and activities\, meal ticket\, option to participate in the 2-mile Walk and/or Kidz Dash (Ages 3-10)\, and a HopeFest t-shirt.</p>\n\n<ul>\n	<li>Students/Adults (14+) &ndash\; $30</li>\n	<li>Youth (Ages 3-13) &ndash\; $10</li>\n</ul>\n
LOCATION:Lino Lakes YMCA\, 7690 Village Dr\, Lino Lakes\, MN 55014
UID:e.380.190989
SEQUENCE:3
DTSTAMP:20260419T192915Z
URL:http://members.metronorthchamber.org/events/details/hopefest-190989
END:VEVENT

END:VCALENDAR
