BEGIN:VCALENDAR
VERSION:2.0
PRODID:-//ChamberMaster//Event Calendar 2.0//EN
METHOD:PUBLISH
X-PUBLISHED-TTL:P3D
REFRESH-INTERVAL:P3D
CALSCALE:GREGORIAN
BEGIN:VEVENT
DTSTART:20190405T230000Z
DTEND:20190406T020000Z
X-MICROSOFT-CDO-ALLDAYEVENT:FALSE
SUMMARY:HOPE 4 Youth Timberwolves Game
DESCRIPTION:Join HOPE 4 Youth at the Minnesota Timberwolves as we receive recognition for the work that we do with homeless youth in our community. Arrive early to show your support   and wear your green t-shirt to bring attention to our section.
X-ALT-DESC;FMTTYPE=text/html:<p><span style="font-size:16px"><span style="color:rgb(17\, 51\, 4)\; font-family:lato\,helveticaneue\,helvetica neue\,helvetica\,arial\,sans-serif">Join HOPE 4 Youth at the Minnesota Timberwolves as we receive recognition for the work that we do with homeless youth in our community. Arrive early to show your support &ndash\; and wear your green t-shirt to bring attention to our section.</span></span></p>\n
LOCATION:Target Center.
UID:e.380.188577
SEQUENCE:3
DTSTAMP:20260420T055217Z
URL:http://members.metronorthchamber.org/events/details/hope-4-youth-timberwolves-game-188577
END:VEVENT

END:VCALENDAR
