BEGIN:VCALENDAR
VERSION:2.0
PRODID:-//ChamberMaster//Event Calendar 2.0//EN
METHOD:PUBLISH
X-PUBLISHED-TTL:P3D
REFRESH-INTERVAL:P3D
CALSCALE:GREGORIAN
BEGIN:VEVENT
DTSTART:20180304T210000Z
DTEND:20180305T000000Z
X-MICROSOFT-CDO-ALLDAYEVENT:FALSE
SUMMARY:HOPE 4 Youth's 5 Year Celebration Spaghetti Dinner
DESCRIPTION:Join HOPE 4 Youth as we celebrate 5 years of changing the lives of homeless young people every day.\n\n\n\nWhat   5 Year Celebration Spaghetti Dinner \n\nWhen   Sunday\, March 4\, 2018\; 3-6 PM (Open House Style)\n\nWhere   Coon Rapids VFW (1919 Coon Rapids Blvd NW\, Coon Rapids)\n\nCost   Adult Tickets $10/ Kid Tickets (10 & Under) $5\; Tickets sold at the door for $12.\n\n\nFor the past five years\, HOPE 4 Youth has been the first and last HOPE for many homeless young people in the north metro suburbs. These youth face things that you likely can't imagine   sleeping on the streets\, in their cars or on someone's couch   and they wait until our doors open so that they can eat a meal\, access food and hygiene products from our pantry\, visit our clothing closet\, take a hot shower and use our laundry facilities. After meeting their basic needs\, we help them find HOPE   Housing\, Outreach\, Prevention and Employment/Education   all things they need to leave their status of homeless in the past.
X-ALT-DESC;FMTTYPE=text/html:<span style="color:#696969"><span style="font-size:14px">Join HOPE 4 Youth as we celebrate 5 years of changing the lives of homeless young people every day.</span><br />\n<br />\n<span style="font-size:14px">What &bull\;&nbsp\;5 Year Celebration Spaghetti Dinner&nbsp\;<br />\nWhen &bull\; Sunday\, March 4\, 2018\; 3-6 PM (Open House Style)<br />\nWhere &bull\; Coon Rapids VFW (1919 Coon Rapids Blvd NW\, Coon Rapids)<br />\nCost &bull\; Adult Tickets $10/ Kid Tickets (10 &amp\; Under) $5\; Tickets sold at the door for $12.</span></span>\n<div><br />\n<span style="color:#696969"><span style="font-size:14px"><span style="font-family:lato\,helveticaneue\,helvetica neue\,helvetica\,arial\,sans-serif">For the past five years\, HOPE 4 Youth has been the first and last HOPE for many homeless young people in the north metro suburbs. These youth face things that you likely can&rsquo\;t imagine &ndash\; sleeping on the streets\, in their cars or on someone&rsquo\;s couch &ndash\; and they wait until our doors open so that they can eat a meal\, access food and hygiene products from our pantry\, visit our clothing closet\, take a hot shower and use our laundry facilities. After meeting their basic needs\, we help them find HOPE &ndash\; Housing\, Outreach\, Prevention and Employment/Education &ndash\; all things they need to leave their status of homeless in the past.</span></span></span></div>\n
LOCATION:Coon Rapids VFW (1919 Coon Rapids Blvd NW\, Coon Rapids)
UID:e.380.180268
SEQUENCE:3
DTSTAMP:20260421T003155Z
URL:http://members.metronorthchamber.org/events/details/hope-4-youth-s-5-year-celebration-spaghetti-dinner-180268
END:VEVENT

END:VCALENDAR
