BEGIN:VCALENDAR
VERSION:2.0
PRODID:-//ChamberMaster//Event Calendar 2.0//EN
METHOD:PUBLISH
X-PUBLISHED-TTL:P3D
REFRESH-INTERVAL:P3D
CALSCALE:GREGORIAN
BEGIN:VEVENT
DTSTART:20181215T150000Z
DTEND:20181215T230000Z
X-MICROSOFT-CDO-ALLDAYEVENT:FALSE
SUMMARY:Home Stretch Workshop
DESCRIPTION:Workshop Includes:\n\nSteps to Becoming a Homeowner\, Preparing Financially\, Importance of Credit\, Choosing the Right Mortgage and Getting Pre-approved\, Ways to Shop for a Home\, How to Make an Offer\, Value of Home Inspection\, Preparing for Closing\, & Responsibilites of Homeownership
X-ALT-DESC;FMTTYPE=text/html:Workshop Includes:<br />\nSteps to Becoming a Homeowner\, Preparing Financially\, Importance of Credit\, Choosing the Right Mortgage and Getting Pre-approved\, Ways to Shop for a Home\, How to Make an Offer\, Value of Home Inspection\, Preparing for Closing\, &amp\; Responsibilites of Homeownership<br />\n&nbsp\;
LOCATION:Keller Wiliams Realty Office 1740 - 116th Ave NW Coon Rapids\, MN 55448
UID:e.380.187500
SEQUENCE:3
DTSTAMP:20260420T120912Z
URL:http://members.metronorthchamber.org/events/details/home-stretch-workshop-187500
END:VEVENT

END:VCALENDAR
