BEGIN:VCALENDAR
VERSION:2.0
PRODID:-//ChamberMaster//Event Calendar 2.0//EN
METHOD:PUBLISH
X-PUBLISHED-TTL:P3D
REFRESH-INTERVAL:P3D
CALSCALE:GREGORIAN
BEGIN:VEVENT
DTSTART:20140510T220000Z
DTEND:20140511T020000Z
X-MICROSOFT-CDO-ALLDAYEVENT:FALSE
SUMMARY:Home Opener vs. Willmar Broncos
DESCRIPTION:Midwest Nightmare Home Opener vs. Wilmar Broncos\n\nSpring Lake Park High School Football Field\n\n\n\nMay 10th\, 2014\n\nGates open at 5 pm\n\nKickoff is at 6 pm\n\n\n\nCancer Awareness Night\n\n\n\nTickets:\n\nAdult $10.00\n\nKids 6-12 $5\n\nChildren 5 and under - Free\n\nVeterans with ID:  Free\n\nFamily Admission (2 Adults\, 2 Children)  $25\n\n\n\nConcessions on site\n\n\n\nParking Lot:  Able Street\n\n\n\nPlease support our Community Sponsors:\n\nJam Hop\n\nFlowerama\n\n$4 Carwash\n\nOlgivie Raceway\n\nJersey Mike's\n\nChiroway\n\nRunning Aces
X-ALT-DESC;FMTTYPE=text/html:<h2 style="text-align: center\;"><strong><span style="font-size:22px\;"><span style="font-family: times new roman\;">Midwest Nightmare Home Opener vs. Wilmar Broncos</span></span></strong></h2>\n\n<div style="text-align: center\;"><strong><span style="font-size:20px\;"><span style="font-family: times new roman\;">Spring Lake Park High School Football Field</span></span></strong><br />\n<br />\n<span style="font-size:20px\;"><span style="font-family: times new roman\;"><strong>May 10th\, 2014<br />\nGates open at 5 pm<br />\nKickoff is at 6 pm</strong><br />\n<br />\n<strong>Cancer Awareness Night</strong><br />\n<br />\n<u><strong>Tickets:</strong></u><br />\nAdult $10.00<br />\nKids 6-12 $5<br />\nChildren 5 and under - Free<br />\nVeterans with ID:&nbsp\; Free<br />\nFamily Admission (2 Adults\, 2 Children)&nbsp\; $25<br />\n<br />\n<em><strong>Concessions on site<br />\n<br />\nParking Lot:&nbsp\; Able Street<br />\n<br />\nPlease support our Community Sponsors:<br />\nJam Hop<br />\nFlowerama<br />\n$4 Carwash<br />\nOlgivie Raceway<br />\nJersey Mike&#39\;s<br />\nChiroway</strong></em><br />\n<strong><em>Running Aces</em></strong></span></span></div>\n
LOCATION:Spring Lake Park Schools - High School Field 1100 81st Avenue NE Spring Lake Park\, MN 55432 Parking: Lot off of able street
UID:e.380.151308
SEQUENCE:3
DTSTAMP:20260424T044014Z
URL:http://members.metronorthchamber.org/events/details/home-opener-vs-willmar-broncos-05-10-2014-151308
END:VEVENT

END:VCALENDAR
