BEGIN:VCALENDAR
VERSION:2.0
PRODID:-//ChamberMaster//Event Calendar 2.0//EN
METHOD:PUBLISH
X-PUBLISHED-TTL:P3D
REFRESH-INTERVAL:P3D
CALSCALE:GREGORIAN
BEGIN:VEVENT
DTSTART:20180324T150000Z
DTEND:20180324T220000Z
X-MICROSOFT-CDO-ALLDAYEVENT:FALSE
SUMMARY:Home & Garden Show
DESCRIPTION:Attention all home improvement enthusiasts! The Home Improvement and Design Expo returns to the National Sports Center on Saturday\, March 24th for the premier spring home show in Blaine!\n\nSee up to 120 exhibitors showcasing the latest products and services to help you turn your dream home into a REALITY!\n\nFeaturing local and national exhibitors.\n\nThe SMART place to start your home improvement project!\n\nBring your ideas and blueprints. This show features everything home improvement related\, including: remodelers\, landscapers\, architects\, interior designers\, contractors\, decks\, kitchens\, bathrooms\, entertainment rooms\, roofing\, window\, siding\, financing\, and much more!\n\nPLUS: Don't miss the speaker stage with free speakers giving tips\, ideas\, and advice   every hour\, on the hour!\n\n*Free Parking!
X-ALT-DESC;FMTTYPE=text/html:<p style="margin: 0px 0px 30px\; padding: 0px\; border: 0px\; outline: 0px\; font-size: 13px\; vertical-align: baseline\; background: rgb(255\, 255\, 255)\; color: rgb(128\, 128\, 128)\; font-family: &quot\;Open Sans&quot\;\, &quot\;Open Sans&quot\;\, Arial\, sans-serif\;"><span style="margin-top: 0px\; margin-right: 0px\; margin-bottom: 0px !important\; margin-left: 0px\; padding: 0px\; border: 0px\; outline: 0px\; font-size: 14pt\; vertical-align: baseline\; background: transparent\; color: rgb(0\, 0\, 0)\;"><strong style="margin-top: 0px\; margin-right: 0px\; margin-left: 0px\; padding: 0px\; border: 0px\; outline: 0px\; vertical-align: baseline\; background: transparent\; margin-bottom: 0px !important\;">Attention all home improvement enthusiasts! The Home Improvement and Design Expo returns to the National Sports Center&nbsp\;on Saturday\, March 24th&nbsp\;for the premier spring&nbsp\;home show in Blaine!</strong></span></p>\n\n<p style="margin: 0px 0px 30px\; padding: 0px\; border: 0px\; outline: 0px\; font-size: 13px\; vertical-align: baseline\; background: rgb(255\, 255\, 255)\; color: rgb(128\, 128\, 128)\; font-family: &quot\;Open Sans&quot\;\, &quot\;Open Sans&quot\;\, Arial\, sans-serif\;"><span style="margin-top: 0px\; margin-right: 0px\; margin-bottom: 0px !important\; margin-left: 0px\; padding: 0px\; border: 0px\; outline: 0px\; font-size: 14pt\; vertical-align: baseline\; background: transparent\; color: rgb(0\, 0\, 0)\;">See up to 120 exhibitors showcasing the latest products and services to help you turn your dream home into a REALITY!</span></p>\n\n<p style="margin: 0px 0px 30px\; padding: 0px\; border: 0px\; outline: 0px\; font-size: 13px\; vertical-align: baseline\; background: rgb(255\, 255\, 255)\; color: rgb(128\, 128\, 128)\; font-family: &quot\;Open Sans&quot\;\, &quot\;Open Sans&quot\;\, Arial\, sans-serif\;"><span style="margin-top: 0px\; margin-right: 0px\; margin-bottom: 0px !important\; margin-left: 0px\; padding: 0px\; border: 0px\; outline: 0px\; font-size: 14pt\; vertical-align: baseline\; background: transparent\; color: rgb(0\, 0\, 0)\;">Featuring local and national exhibitors.</span></p>\n\n<p style="margin: 0px 0px 30px\; padding: 0px\; border: 0px\; outline: 0px\; font-size: 13px\; vertical-align: baseline\; background: rgb(255\, 255\, 255)\; color: rgb(128\, 128\, 128)\; font-family: &quot\;Open Sans&quot\;\, &quot\;Open Sans&quot\;\, Arial\, sans-serif\;"><span style="margin-top: 0px\; margin-right: 0px\; margin-bottom: 0px !important\; margin-left: 0px\; padding: 0px\; border: 0px\; outline: 0px\; font-size: 14pt\; vertical-align: baseline\; background: transparent\;"><strong style="margin-top: 0px\; margin-right: 0px\; margin-left: 0px\; padding: 0px\; border: 0px\; outline: 0px\; vertical-align: baseline\; background: transparent\; margin-bottom: 0px !important\;">The SMART place to start your home improvement project!</strong></span></p>\n\n<p style="margin: 0px 0px 30px\; padding: 0px\; border: 0px\; outline: 0px\; font-size: 13px\; vertical-align: baseline\; background: rgb(255\, 255\, 255)\; color: rgb(128\, 128\, 128)\; font-family: &quot\;Open Sans&quot\;\, &quot\;Open Sans&quot\;\, Arial\, sans-serif\;"><span style="margin: 0px\; padding: 0px\; border: 0px\; outline: 0px\; font-size: 14pt\; vertical-align: baseline\; background: transparent\; color: rgb(0\, 0\, 0)\;">Bring your ideas and blueprints.&nbsp\;</span><span style="margin-top: 0px\; margin-right: 0px\; margin-bottom: 0px !important\; margin-left: 0px\; padding: 0px\; border: 0px\; outline: 0px\; font-size: 14pt\; vertical-align: baseline\; background: transparent\; color: rgb(0\, 0\, 0)\;">This show features everything home improvement related\, including: remodelers\, landscapers\, architects\, interior designers\, contractors\, decks\, kitchens\, bathrooms\, entertainment rooms\, roofing\, window\, siding\, financing\, and much more!</span></p>\n\n<p style="margin: 0px 0px 30px\; padding: 0px\; border: 0px\; outline: 0px\; font-size: 13px\; vertical-align: baseline\; background: rgb(255\, 255\, 255)\; color: rgb(128\, 128\, 128)\; font-family: &quot\;Open Sans&quot\;\, &quot\;Open Sans&quot\;\, Arial\, sans-serif\;"><span style="margin-top: 0px\; margin-right: 0px\; margin-bottom: 0px !important\; margin-left: 0px\; padding: 0px\; border: 0px\; outline: 0px\; font-size: 14pt\; vertical-align: baseline\; background: transparent\; color: rgb(0\, 0\, 0)\;"><strong style="margin-top: 0px\; margin-right: 0px\; margin-left: 0px\; padding: 0px\; border: 0px\; outline: 0px\; vertical-align: baseline\; background: transparent\; margin-bottom: 0px !important\;">PLUS:</strong>&nbsp\;Don&rsquo\;t miss the speaker stage with free speakers giving tips\, ideas\, and advice &ndash\; every hour\, on the hour!</span></p>\n\n<p style="margin-top: 0px\; margin-right: 0px\; margin-left: 0px\; padding: 0px\; border: 0px\; outline: 0px\; font-size: 13px\; vertical-align: baseline\; background: rgb(255\, 255\, 255)\; color: rgb(128\, 128\, 128)\; font-family: &quot\;Open Sans&quot\;\, &quot\;Open Sans&quot\;\, Arial\, sans-serif\; margin-bottom: 0px !important\;"><span style="margin-top: 0px\; margin-right: 0px\; margin-left: 0px\; padding: 0px\; border: 0px\; outline: 0px\; vertical-align: baseline\; background: transparent\; color: rgb(0\, 0\, 0)\; margin-bottom: 0px !important\;"><strong style="margin-top: 0px\; margin-right: 0px\; margin-left: 0px\; padding: 0px\; border: 0px\; outline: 0px\; vertical-align: baseline\; background: transparent\; margin-bottom: 0px !important\;"><span style="margin-top: 0px\; margin-right: 0px\; margin-bottom: 0px !important\; margin-left: 0px\; padding: 0px\; border: 0px\; outline: 0px\; font-size: 14pt\; vertical-align: baseline\; background: transparent\;">*Free Parking!</span></strong></span></p>\n
LOCATION:
UID:e.380.180313
SEQUENCE:3
DTSTAMP:20260421T003153Z
URL:http://members.metronorthchamber.org/events/details/home-garden-show-180313
END:VEVENT

END:VCALENDAR
