BEGIN:VCALENDAR
VERSION:2.0
PRODID:-//ChamberMaster//Event Calendar 2.0//EN
METHOD:PUBLISH
X-PUBLISHED-TTL:P3D
REFRESH-INTERVAL:P3D
CALSCALE:GREGORIAN
BEGIN:VEVENT
DTSTART:20190718T160000Z
DTEND:20190719T010000Z
X-MICROSOFT-CDO-ALLDAYEVENT:FALSE
SUMMARY:HOM Furniture Hiring Event July 17 and 18\, 2019
DESCRIPTION:The Coon Rapids\, Lakeville\, Little Canada and Plymouth HOM Furniture showrooms will be interviewing for sales\, interior designers\, guest services\, warehouse and more!\n\n\n\nHOM has an excellent benefits package\, excellent training programs\, employee discounts\, fun work environment\, and promotes from within!\n\n\n\nSee https://careers.homfurniture.com for position descriptions and stop in on Wed. July 17 or Thu. July 18 to interview - no appointment necessary!
X-ALT-DESC;FMTTYPE=text/html:The Coon Rapids\, Lakeville\, Little Canada and Plymouth HOM Furniture showrooms will be interviewing for sales\, interior designers\, guest services\, warehouse and more!<br />\n<br />\nHOM has an excellent benefits package\, excellent training programs\, employee discounts\, fun work environment\, and promotes from within!<br />\n<br />\nSee https://careers.homfurniture.com for position descriptions and stop in on Wed. July 17 or Thu. July 18 to interview - no appointment necessary!
LOCATION:HOM Furniture Coon Rapids Showroom: 10301 Woodcrest Drive NW\, Coon Rapids\, MN 55433.
UID:e.380.190696
SEQUENCE:3
DTSTAMP:20260419T230200Z
URL:http://members.metronorthchamber.org/events/details/hom-furniture-hiring-event-july-17-and-18-2019-07-18-2019-190696
END:VEVENT

END:VCALENDAR
